BEGIN:VCALENDAR
VERSION:2.0
PRODID:-//NJAHS - ECPv6.15.20//NONSGML v1.0//EN
CALSCALE:GREGORIAN
METHOD:PUBLISH
X-WR-CALNAME:NJAHS
X-ORIGINAL-URL:https://www.njahs.org
X-WR-CALDESC:Events for NJAHS
REFRESH-INTERVAL;VALUE=DURATION:PT1H
X-Robots-Tag:noindex
X-PUBLISHED-TTL:PT1H
BEGIN:VTIMEZONE
TZID:America/Los_Angeles
BEGIN:DAYLIGHT
TZOFFSETFROM:-0800
TZOFFSETTO:-0700
TZNAME:PDT
DTSTART:20250309T100000
END:DAYLIGHT
BEGIN:STANDARD
TZOFFSETFROM:-0700
TZOFFSETTO:-0800
TZNAME:PST
DTSTART:20251102T090000
END:STANDARD
BEGIN:DAYLIGHT
TZOFFSETFROM:-0800
TZOFFSETTO:-0700
TZNAME:PDT
DTSTART:20260308T100000
END:DAYLIGHT
BEGIN:STANDARD
TZOFFSETFROM:-0700
TZOFFSETTO:-0800
TZNAME:PST
DTSTART:20261101T090000
END:STANDARD
BEGIN:DAYLIGHT
TZOFFSETFROM:-0800
TZOFFSETTO:-0700
TZNAME:PDT
DTSTART:20270314T100000
END:DAYLIGHT
BEGIN:STANDARD
TZOFFSETFROM:-0700
TZOFFSETTO:-0800
TZNAME:PST
DTSTART:20271107T090000
END:STANDARD
END:VTIMEZONE
BEGIN:VEVENT
DTSTART;TZID=America/Los_Angeles:20260223T120000
DTEND;TZID=America/Los_Angeles:20260831T170000
DTSTAMP:20260423T021230
CREATED:20251219T225120Z
LAST-MODIFIED:20260226T002608Z
UID:10000410-1771848000-1788195600@www.njahs.org
SUMMARY:I Am An American: The Nisei Soldier Traveling Exhibit
DESCRIPTION:[vc_row][vc_column][vc_column_text css=””] \nIntroducing: “I Am An American: The Nisei Soldier Experience”\nA New Traveling Exhibit Debuting at the Military Intelligence Service Historic Learning Center in San Francisco\nOn View to the Public: February 23\, 2026 to August 31\, 2026\,\nMonday\, Tuesday\, Friday\, Saturday\, Sunday. 12- 5PM\nAdmission: $15. Free to veterans\, children 12 & under\, NJAHS members.\nPurchase Tickets Here\n“I Am An American: The Nisei Soldier Experience” is a new traveling exhibit that tells the storied history of second-generation Americans of Japanese ancestry\, known as “Nisei\,” who demonstrated their loyalty during World War II by enlisting to serve in the U.S. Army. In the exhibit\, their service is recounted against the backdrop of fear and racial tension that inspired thousands to volunteer from Hawaii and drove the U.S. government to remove Japanese Americans and people of Japanese ancestry on the West Coast to ten Wartime Relocation Authority (WRA) Incarceration Camps during the war. \nThrough 1\,500 square feet of immersive storytelling\, the exhibition showcases firsthand accounts\, rare artifacts\, and evocative images that reveal how the Nisei Soldiers’ service became a defining testament to courage\, sacrifice\, and belonging. Visitors will encounter the remarkable stories of the Nisei Soldiers who served in the European Theater as part of the 100th Infantry Battalion\, 442nd Regimental Combat Team—one of the most highly decorated units in military history—and in the Pacific Theater as linguists in the U.S. Army’s Military Intelligence Service \nLaunching this February 2026 at the MIS Historic Learning Center at the Presidio in San Francisco\, this national five-year tour will travel to 11 venues across the United States. Join us for the kick-off event: Salute to Service -an evening event at the Palace of Fine Arts Theater\, on Saturday\, February 21\, 2026\, 7PM.  Tickets:  nvnvets.org/exhibit.[/vc_column_text][/vc_column][/vc_row][vc_row][vc_column][vc_column_text css=””] \nNJAHS Members ONLY: Register HERE for the Special OPENING PROGRAM: Salute to Service\, SAT. FEB 21\, 2026\, 7PM at the Palace of Fine Arts Theatre\, San Francisco\, CA 94123\n[/vc_column_text][/vc_column][/vc_row][vc_row][vc_column][vc_column_text css=””] \nTraveling Tour Details\n“I Am An American” will begin its five-year tour of 11 venues around the nation in February 2026\, premiering at the MIS Historic Learning Center at Presidio in San Francisco\, CA from February 23 to July 31. Other early tour stops will include the Bishop Museum in Honolulu\, Hawaii; Oregon Historical Society in Portland\, Oregon; and the Japanese American National Museum in Los Angeles\, CA.[/vc_column_text][vc_column_text css=””] \nExhibit’s Creators\n“I Am An American” is presented by the National Veterans Network (NVN) with the National Museum of the United States Army and supported by The Army Historical Foundation.  Click HERE for more information[/vc_column_text][/vc_column][/vc_row]
URL:https://www.njahs.org/events/i-am-an-american-the-nisei-soldier-traveling-exhibit/
LOCATION:Military Intelligence Service Historic Learning Center\, Building 640\, 640 Old Mason St\, San Francisco\, CA\, 94129\, United States
CATEGORIES:Events,Exhibit,Exhibitions,Exhibitions
ATTACH;FMTTYPE=image/jpeg:https://www.njahs.org/wp-content/uploads/2025/12/Nisei-Rendering-Final_Condensed.jpg
END:VEVENT
END:VCALENDAR