BEGIN:VCALENDAR
VERSION:2.0
PRODID:-//NJAHS - ECPv6.15.20//NONSGML v1.0//EN
CALSCALE:GREGORIAN
METHOD:PUBLISH
X-WR-CALNAME:NJAHS
X-ORIGINAL-URL:https://www.njahs.org
X-WR-CALDESC:Events for NJAHS
REFRESH-INTERVAL;VALUE=DURATION:PT1H
X-Robots-Tag:noindex
X-PUBLISHED-TTL:PT1H
BEGIN:VTIMEZONE
TZID:America/Los_Angeles
BEGIN:DAYLIGHT
TZOFFSETFROM:-0800
TZOFFSETTO:-0700
TZNAME:PDT
DTSTART:20140309T100000
END:DAYLIGHT
BEGIN:STANDARD
TZOFFSETFROM:-0700
TZOFFSETTO:-0800
TZNAME:PST
DTSTART:20141102T090000
END:STANDARD
BEGIN:DAYLIGHT
TZOFFSETFROM:-0800
TZOFFSETTO:-0700
TZNAME:PDT
DTSTART:20150308T100000
END:DAYLIGHT
BEGIN:STANDARD
TZOFFSETFROM:-0700
TZOFFSETTO:-0800
TZNAME:PST
DTSTART:20151101T090000
END:STANDARD
BEGIN:DAYLIGHT
TZOFFSETFROM:-0800
TZOFFSETTO:-0700
TZNAME:PDT
DTSTART:20160313T100000
END:DAYLIGHT
BEGIN:STANDARD
TZOFFSETFROM:-0700
TZOFFSETTO:-0800
TZNAME:PST
DTSTART:20161106T090000
END:STANDARD
BEGIN:DAYLIGHT
TZOFFSETFROM:-0800
TZOFFSETTO:-0700
TZNAME:PDT
DTSTART:20170312T100000
END:DAYLIGHT
BEGIN:STANDARD
TZOFFSETFROM:-0700
TZOFFSETTO:-0800
TZNAME:PST
DTSTART:20171105T090000
END:STANDARD
BEGIN:DAYLIGHT
TZOFFSETFROM:-0800
TZOFFSETTO:-0700
TZNAME:PDT
DTSTART:20180311T100000
END:DAYLIGHT
BEGIN:STANDARD
TZOFFSETFROM:-0700
TZOFFSETTO:-0800
TZNAME:PST
DTSTART:20181104T090000
END:STANDARD
BEGIN:DAYLIGHT
TZOFFSETFROM:-0800
TZOFFSETTO:-0700
TZNAME:PDT
DTSTART:20190310T100000
END:DAYLIGHT
BEGIN:STANDARD
TZOFFSETFROM:-0700
TZOFFSETTO:-0800
TZNAME:PST
DTSTART:20191103T090000
END:STANDARD
BEGIN:DAYLIGHT
TZOFFSETFROM:-0800
TZOFFSETTO:-0700
TZNAME:PDT
DTSTART:20200308T100000
END:DAYLIGHT
BEGIN:STANDARD
TZOFFSETFROM:-0700
TZOFFSETTO:-0800
TZNAME:PST
DTSTART:20201101T090000
END:STANDARD
END:VTIMEZONE
BEGIN:VEVENT
DTSTART;TZID=America/Los_Angeles:20181201T040000
DTEND;TZID=America/Los_Angeles:20190228T090000
DTSTAMP:20260423T044856
CREATED:20181206T062712Z
LAST-MODIFIED:20190105T005900Z
UID:10000125-1543636800-1551344400@www.njahs.org
SUMMARY:Japan Center 50 Years Exhibit in the Peace Gallery
DESCRIPTION:Where: 1684 Post St\, San Francisco CA 94115 \nTime: 12:00 PM to 5:00 Pm from Monday to Friday
URL:https://www.njahs.org/events/japan-center-50-years-exhibit-in-the-peace-gallery/
LOCATION:CA\, United States
CATEGORIES:Exhibit,Exhibitions,Exhibitions
ATTACH;FMTTYPE=image/jpeg:https://www.njahs.org/wp-content/uploads/2018/12/vetrsipon2-e1544048815784.jpg
END:VEVENT
BEGIN:VEVENT
DTSTART;TZID=America/Los_Angeles:20180610T050000
DTEND;TZID=America/Los_Angeles:20190131T090000
DTSTAMP:20260423T044856
CREATED:20180606T023444Z
LAST-MODIFIED:20180608T062202Z
UID:10000115-1528606800-1548925200@www.njahs.org
SUMMARY:ONLY THE OAKS REMAIN - Story of Tuna Canyon Detention Station
DESCRIPTION:Date & Time: June 9\, 2018 – January 31\, 2019 from 12:00 PM – 5:00 PM\n\n\n\nLocation: 640 Old Mason St\, Presidio of San Francisco\, CA 94129 \n\nOpening Reception: June 10\, 2018 from 12:00 – 2:00 pm \n\n\nAdmission free with program attendance.\nFeaturing speakers Nancy Oda\, Grace Shimizu\, and Larry DiStasi with perspectives on the WWII Department of Justice internment experience. \nThis traveling exhibit will be open from June 9\, 2018 to January 31\, 2019. \nOnly the Oaks Remain: The Story of Tuna Canyon Detention Station tells the true stories of those targeted as dangerous enemy aliens and imprisoned in the Tuna Canyon Detention Station\, located in the Tujunga neighborhood of Los Angeles\, by the US Department of Justice during World War II. Rare artifacts such as photographs\, letters\, and diaries bring the experiences of prisoners—who included Japanese\, German\, and Italian immigrants and extradited Japanese Peruvians—to life. \nDuring the decade before World War II\, the US government compiled lists of people they saw as potential risks to national security. When the war began\, Presidential Proclamations 2525\, 2526\, and 2527 authorized the FBI and other agencies to arrest such individuals—mostly spiritual\, educational\, business\, and community leaders from the Japanese\, German\, and Italian immigrant communities. The government also rounded up Japanese and other individuals who had previously been forcibly removed from Latin America. \nFollowing the bombing of Pearl Harbor on December 7\, 1941\, the US Department of Justice took over a vacated Civilian Conservation Corps camp in the Tujunga neighborhood of Los Angeles and converted it into a detention station by installing twelve-foot-high barbed wire fences\, guard posts\, and flood lights. The Tuna Canyon Detention Station became one of many initial confinement sites set up by the government. Targeted individuals were quickly arrested in their homes\, leaving behind confused and frightened families; most detainees were later sent to Department of Justice or Army internment camps. \nOnly the Oaks Remain commemorates the history of the Tuna Canyon Detention Station and seeks to educate the public about the violation of civil rights that took place there. The exhibition features photographs\, letters\, diaries\, interviews\, declassified government documents\, and other rare artifacts that serve to illuminate a largely untold story that goes beyond the more widely-known story of the mass incarceration of Japanese Americans. A highlight is an Honor Wall that bears each detainee’s name\, creating a contemplative space for viewers. By taking an unprecedented look at war’s impact on a disparate group of detainees\, examining striking similarities as well as differences among them\, the exhibition encourages present and future generations to learn from our nation’s mistakes. \nOnly the Oaks Remain is organized by the Tuna Canyon Detention Station Coalition\, a nonprofit organization dedicated to raising public awareness about the site’s history. It is working to develop a permanent Tuna Canyon Detention Station Memorial\, which will include a plaque and educational posts installed along a walking path lined with mature oak trees\, to further educate future generations. For more information\, visit tunacanyon.org. \nThis project was organized by the Tuna Canyon Detention Station Coalition; funded\, in part\, by a grant from the US Department of the Interior\, National Park Service\, Japanese American Confinement Sites Grant Program; and sponsored by the San Fernando Valley Japanese American Community Center.
URL:https://www.njahs.org/events/oaks-remain-story-tuna-canyon-detention-station/
CATEGORIES:Exhibit,Exhibitions,Exhibitions
END:VEVENT
BEGIN:VEVENT
DTSTART;TZID=America/Los_Angeles:20171111T040000
DTEND;TZID=America/Los_Angeles:20180520T100000
DTSTAMP:20260423T044856
CREATED:20171017T032729Z
LAST-MODIFIED:20180130T093355Z
UID:10000094-1510372800-1526810400@www.njahs.org
SUMMARY:ARTISTS' EYES: ART OF INCARCERATION
DESCRIPTION:In commemoration of the 75th Anniversary of Executive Order 9066\, the National Japanese American Historical Society presents Artists’ Eyes\, Art of Incarceration. During World War II\, Executive Order 9066 led to the registration\, exclusion\, forced removal and mass incarceration of 120\,000 Japanese Americans from the West Coast. Two multigenerational art exhibits reveal a successive unearthing of evocative expressions through three generations. Works by Japanese American and other multicultural artists expose the profound and eventual reclamation of history and identity. Works and artist talks make connections to the current climate today. \nThe exhibits\, hosted at NJAHS’s two sites at the Presidio and Japantown\, are curated by\nBetty Nobue Kano and Judy Shintani.\nFront images:  Artwork L to R: Hideo Kobashigawa\, Ellen Bepp\, Roger Shimomura\, Shari Arai DeBoer. \nLocation: MIS Historic Learning Center and NJAHS Peace Gallery \nWhere: MIS Historic Learning Center\, Building 640\n640 Old Mason Street\nCrissy Field\, Presidio of San Francisco\nSan Francisco\, CA 94129\nExhibition Dates: 11-11-2017 to 5-20-2018\nOpen weekends\, 12-5pm; W-F by appt. $10 Admission\,\nFREE to members\, veterans\, children 12 & under \nWhere: NJAHS Peace Gallery\n1684 Post Street\nSan Francisco\, CA 94115\nExhibition Dates: 12-2-2017 to 4-22-2018\nOpen M-F\, 12-5pm; 1st Sat of the month\, 12-5pm\nFREE Admission \n 
URL:https://www.njahs.org/events/artists-eyes-art-incarceration/
CATEGORIES:Exhibitions,Public Programs
END:VEVENT
BEGIN:VEVENT
DTSTART;TZID=America/Los_Angeles:20170912T170000
DTEND;TZID=America/Los_Angeles:20171030T170000
DTSTAMP:20260423T044856
CREATED:20180713T094910Z
LAST-MODIFIED:20180713T094910Z
UID:10000119-1505235600-1509382800@www.njahs.org
SUMMARY:Something from Nothing Upcoming Program
DESCRIPTION:Crafting Something from Nothing: Voices from the Camps\nThursday\, Sept. 14\, 5:00pm-6:30pm – Berman Room\, Fromm Hall. Poetry\, memoir and performance by survivors and their ancestors\, including Brain Koemi Dempster\, Florence Ohmura Dobashi\, Sato Hashizume\, Barbara Hariuchi\, Kazuko Iwahashi\, Janice Mirikitani\, Jon Osaki\, Bryan Saito\, Toru Saito\, Summer Seiki\, Harumi Serata\, and Michi Tashiro. \nNotice to All: The Legacy of Executive Order 9066\nThursday\, Oct. 5\, 5:30pm-7:30pm –  Mclaren 250. Join USF law professor Bill Ong Hing\, with Dean Ito Taylor\, Executive Director of API Legal Outreach\, and Korematsu legal team members Karen Kai and Robert Rusky as they discuss the legal\, social and historical precedent of Executive Order 9066\, which authorized the mass imprisonment of Japanese Americans during WWII. Speakers will link the Executive Order to current immigration issues. \nNot for Sales: The Ethics of Collecting Cultural Heritage\nTuesday\, Oct. 24\, 3:00pm-4:20pm – Mclaren 250. A conversation on the ethical implications of collecting\, preserving\, and exhibition culturally significant objects with Paloma Anoveros\, Karren Shorofsky\, Rosalyn Tonai\, and Nancy Ukai.
URL:https://www.njahs.org/events/something-nothing-upcoming-program/
CATEGORIES:Exhibit,Exhibitions,Exhibitions
END:VEVENT
BEGIN:VEVENT
DTSTART;TZID=America/Los_Angeles:20170824T093000
DTEND;TZID=America/Los_Angeles:20170824T110000
DTSTAMP:20260423T044856
CREATED:20170831T073412Z
LAST-MODIFIED:20180713T095633Z
UID:10000028-1503567000-1503572400@www.njahs.org
SUMMARY:Something from Nothing Opening Reception
DESCRIPTION:  \n\n			\n		\n				\n					\n				\n				\n					\n				\n				\n					\n				\n				\n					\n				\n			\n\nPhotos from Something from Nothing exhibition. Opening reception 8-24\, 2017. This exhibition and programming is a collaboration between National Japanese American Historical Society\, Thacher Gallery at University San Francisco and a culmination of work by the Museum Studies &  Art Departments. Following this opening\, will be programs open to the public featuring poetry\, memoirs and performances by camp survivors and presenters. Participants include Brian Komei Dempster\, Florence Ohmura Dobashi\, Sato Hashizume\, Barbara Horiuchi\, Kazuko Iwahashi\, Janice Mirikitani\, Jon Osaki\, Brynn Saito\, Toru Saito\, Sumer Seiki\, and Harumi Serata. Contemporary works are presented by artists Barbara Horiuchi and Marlene Iyemura. Events are co-sponsored by USF’s Asian Pacific American Studies department and the Master of Arts in Asia Pacific Studies program. Something from Nothing: Art and Handcrafted Objects from America’s Concentration Camps\, on view in Thacher Gallery August 21 – November 15\, 2017. Funded in part by the California Humanities.\nCheck out programs: www.njahs.org/programs \n  \n 
URL:https://www.njahs.org/events/something-nothing-opening-reception/
CATEGORIES:Exhibit,Exhibitions,Exhibitions
END:VEVENT
BEGIN:VEVENT
DTSTART;TZID=America/Los_Angeles:20170821T093000
DTEND;TZID=America/Los_Angeles:20171115T100000
DTSTAMP:20260423T044856
CREATED:20170811T055518Z
LAST-MODIFIED:20180713T105510Z
UID:10000024-1503307800-1510740000@www.njahs.org
SUMMARY:Something From Nothing: Exhibition and Events
DESCRIPTION:On view in Thacher Gallery from August 21 – November 15\, 2017. \nSomething from Nothing features over 100 objects created by incarcerated Japanese Americans during World War II. Included are handmade objects\, historical artifacts\, and photographs from the collection of the National Japanese American Historical Society (NJAHS) as well as two contemporary art installations by Barbara Horiuchi and Marlene Iyemura. Co-presented with the National Japanese American Historical Society. \nOpening Reception:\nThursday\, Aug. 24\, 4:30pm-6:00pm – Thacher Gallery. Free event parking will be available in the Koret lot at the corner of Parker and Turk.\n \nCrafting Something from Nothing: Voices from the Camps\nThursday\, Sept. 14\, 5:00pm-6:30pm – Berman Room\, Fromm Hall. Poetry\, memoir and performance by survivors and their ancestors\, including Brain Koemi Dempster\, Florence Ohmura Dobashi\, Sato Hashizume\, Barbara Hariuchi\, Kazuko Iwahashi\, Janice Mirikitani\, Jon Osaki\, Bryan Saito\, Toru Saito\, Summer Seiki\, Harumi Serata\, and Michi Tashiro. \nNotice to All: The Legacy of Executive Order 9066\nThursday\, Oct. 5\, 5:30pm-7:30pm –  Mclaren 250. Join USF law professor Bill Ong Hing\, with Dean Ito Taylor\, Executive Director of API Legal Outreach\, and Korematsu legal team members Karen Kai and Robert Rusky as they discuss the legal\, social and historical precedent of Executive Order 9066\, which authorized the mass imprisonment of Japanese Americans during WWII. Speakers will link the Executive Order to current immigration issues. \nNot for Sales: The Ethics of Collecting Cultural Heritage\nTuesday\, Oct. 24\, 3:00pm-4:20pm – Mclaren 250. A conversation on the ethical implications of collecting\, preserving\, and exhibition culturally significant objects with Paloma Anoveros\, Karren Shorofsky\, Rosalyn Tonai\, and Nancy Ukai.\n \nLocation in the Gleeson Library-Geschke Center\, the Thacher Gallery at USF is free and open to the public from noon to 6:00pm daily. Address: 2130 Fulton St (At cole)\nPhone: 415-422-5178 \nWebsite: www.usfca.edu/thacher-gallery \nMAP OF USF: http://www.mediafire.com/file/5for8j3q7zvmh90/campus-map.pdf \nRSVP: https://www.eventbrite.com/e/something-from-nothing-exhibition-tickets-36941729708Fl \nDownload Flyer:http://www.mediafire.com/view/fp9517s81qz1n73/SFN_Events_Poster_Final.jpg \n  \n 
URL:https://www.njahs.org/events/something-nothing-exhibition/
CATEGORIES:Events,Exhibit,Exhibitions,Exhibitions
END:VEVENT
BEGIN:VEVENT
DTSTART;TZID=America/Los_Angeles:20170201T040000
DTEND;TZID=America/Los_Angeles:20171022T100000
DTSTAMP:20260423T044856
CREATED:20170826T054150Z
LAST-MODIFIED:20170914T061751Z
UID:10000025-1485921600-1508666400@www.njahs.org
SUMMARY:Prejudice and Patriotism: The Story of Japanese Americans in the Military Intelligence Service 1941-1952
DESCRIPTION:One month before the attack on Pearl Harbor\, the U.S. Army Recruited Japanese American Soldiers for Secret military intelligence training at Presidio of San Francisco. Though their families were incarcerated in camps\, these solders served  their country with honor and distinction. Come in and Discover this American Story. \n \nPrograms: \nNovember 11\, 2017\, Veterans Day Weekend \nVisit our website for upcoming programs with our partners throughout the San Francisco Bay Area \nAbout NJAHS \nThe National Japanese American Historical Society\, Inc. is a nonprofit membership organization dedicated to the collection\, preservation\, authentic interpretation\, and sharing of historical information of the Japanese American experience. It is headquartered in San Francisco’s Japantown with a Peace Gallery at 1684 Post Street\, (M–F\, 12–5). \nNJAHS operates the Military Intelligence Service Historic Learning Center\, Bldg. 640 in Crissy Field at San Francisco’s Presidio\, open on weekends and by appointment during the week. \nLocation: MIS Historical Learning Center\, Building 640.  640 Old mad Street (Presidio of San Francisco) San Francisco CA 94129 \nPhone: 415-921-5007 \nDownload the Flyer:http://www.mediafire.com/file/ld64b2y1vcpavi3/RackCard_draft4.pdf \nGeneral Admission $10. Free to NJAHS Members\, Veterans\, Children 12 & Under
URL:https://www.njahs.org/events/prejudice-patriotism-story-japanese-americans-military-intelligence-service-1941-1952/
CATEGORIES:Exhibitions
END:VEVENT
BEGIN:VEVENT
DTSTART;TZID=America/Los_Angeles:20170201T040000
DTEND;TZID=America/Los_Angeles:20171202T090000
DTSTAMP:20260423T044856
CREATED:20170127T092148Z
LAST-MODIFIED:20170914T061642Z
UID:10000089-1485921600-1512205200@www.njahs.org
SUMMARY:Children of the Camps -Exhibit Series
DESCRIPTION:In 1942\, President Roosevelt signed Executive Order 9066 granting the US military full authority to designate military zones from which to exclude all persons. While the order never mentioned “Japanese” or Japanese Americans\,” it paved the way for the mass removal\, detention\, and eventually incarceration of 120\,000 persons of Japanese ancestry from west coast states. At the time\, two-thirds of them were American-born citizens\, who average age was 19. In addition\, some 11\,000 Germans  (including German Jews) and some 3\,000 Italians were also interned on a case- by-case basis. Subsequently\, as series of proclamations emanated from the Presidio of San Francisco\, including the infamous Instructions of  All Persons of Japanese Ancestry. The exhibits also include the rendition of Japanese Latin Americans to Dept of Justice Internment camps and the wartime removal of the Aleutian native people in Alaska .NJAHS presents these National Archive photographic images by  Dorothea Lange\, Clem Albers\, and others taken during this dark chapter in American history. Come investigate what happened and why.\nFor the 75th anniversary of E.0.9066\, at two historic points of departure: \nSF Japantown NJAHS Peace Gallery: M-F\, 12 -5PM  & First Saturdays of the month. Free Admission. 1684 Post Street\, SF Japantown\, CA 94115 \nand at:\nPresidio of SF\, Building 640. MIS Historic Learning Center. 640 Old Mason St. Crissy Field\, San Francisco CA 94129\nWeekends\, 12 – 5PM @ Building 640\, 640 Old Mason St.  Presidio of San Francisco CA 94129\nWeds – Friday\, 12 – 5PM – Group Tours By appointment Only.\n(Free to Members\, veterans\, children 12 and under. $10 -Gen. Admission)\nContact NJAHS for group tours. 415-921-5007. \nCLICK TO RELATED EVENTS \nFunded in part by the Henri & Tomoye Takahashi Charitable Foundation and the Grants for the Arts. \n 
URL:https://www.njahs.org/events/children-camps-exhibit-series/
LOCATION:Presidio Tunnel Tops –\, 210 Lincoln Boulevard\, San Francisco\, CA\, 94129\, United States
CATEGORIES:Exhibitions
ATTACH;FMTTYPE=image/jpeg:https://www.njahs.org/wp-content/uploads/2017/01/DC2012.14.01-e1485479920110.jpeg
END:VEVENT
BEGIN:VEVENT
DTSTART;TZID=America/Los_Angeles:20161116T040000
DTEND;TZID=America/Los_Angeles:20170201T090000
DTSTAMP:20260423T044856
CREATED:20161117T053937Z
LAST-MODIFIED:20161117T061049Z
UID:10000088-1479268800-1485939600@www.njahs.org
SUMMARY:Nisei Soldiers of the Military Intelligence Service during WWII
DESCRIPTION:November 1\, 2016 marked the 75th anniversary of the first US Army Language School at Crissy Field in the Presidio of San Francisco. Against the spectacular backdrop of the Golden Gate Bridge\, is the Military Intelligence Service Historic Learning Center. Within these walls\, is the permanent exhibit Prejudice & Patriotism: Japanese Americans in the Military Intelligence Service. Supplementing this exhibition is a framed photographic exhibit on the Nisei Soldier in the MIS. \nCome inside and discover. \n  \n 
URL:https://www.njahs.org/events/nisei-soldiers-military-intelligence-service-wwii/
LOCATION:Military Intelligence Service Historic Learning Center\, Building 640\, 640 Old Mason St\, San Francisco\, CA\, 94129\, United States
CATEGORIES:Exhibitions
ATTACH;FMTTYPE=image/jpeg:https://www.njahs.org/wp-content/uploads/2016/11/Okinawa-28-1-e1479334238225.jpg
ORGANIZER;CN="NJAHS":MAILTO:njahs@njahs.org
END:VEVENT
BEGIN:VEVENT
DTSTART;VALUE=DATE:20160704
DTEND;VALUE=DATE:20160806
DTSTAMP:20260423T044856
CREATED:20160706T044710Z
LAST-MODIFIED:20160706T044848Z
UID:10000009-1467651600-1470416399@www.njahs.org
SUMMARY:1860 Pacific Overtures: The First Japanese Embassy to America
DESCRIPTION:Come learn about this historic journey of the first Japanese Embassy (on the USS Powhatan) and its escorts on the Kanrin Maru  to America in 1860. This voyage en route to San Francisco marked the historic turning point which ended Japan’s centuries-old seclusion from the Western World and the beginning of diplomatic relations between Japan and the United States. \n \nM-F\, 12-5pm through August 5th
URL:https://www.njahs.org/events/1860-pacific-overtures-first-japanese-embassy-america/
LOCATION:NJAHS Peace Gallery\, 1684 Post Street\, San Francisco\, CA\, 94115\, United States
CATEGORIES:Exhibitions
ORGANIZER;CN="NJAHS":MAILTO:njahs@njahs.org
END:VEVENT
BEGIN:VEVENT
DTSTART;VALUE=DATE:20160704
DTEND;VALUE=DATE:20160805
DTSTAMP:20260423T044856
CREATED:20160706T053314Z
LAST-MODIFIED:20160706T053314Z
UID:10000080-1467651600-1470329999@www.njahs.org
SUMMARY:Carrying ON @ General Consulate of Japan in San Francisco
DESCRIPTION:The Consulate General of Japan in San Francisco will host an exhibit in honor of San Francisco Japantown’s 110th Anniversary. The exhibit\, “Carrying On: 110 Years of Japantown” was created by the National Japanese American Historical Society (NJAHS) and highlights the history of San Francisco’s Japantown by emphasizing the hardships and successes of Japanese Americans and the important historical role the community has played in connecting Northern California and Japan. The exhibit will be on display until Thursday\, August 4 in the Japan Information and Cultural Center Gallery. We hope that you will be able to visit and learn about the history of San Francisco Japantown.
URL:https://www.njahs.org/events/carrying-general-consulate-japan-san-francisco/
LOCATION:Consulate General of Japan in San Francisco\, 275 Battery Street Suite 2100\, San Francisco\, CA\, United States
CATEGORIES:Exhibitions
ORGANIZER;CN="NJAHS":MAILTO:njahs@njahs.org
END:VEVENT
BEGIN:VEVENT
DTSTART;TZID=America/Los_Angeles:20160417T050000
DTEND;TZID=America/Los_Angeles:20160417T100000
DTSTAMP:20260423T044856
CREATED:20151009T185132Z
LAST-MODIFIED:20241107T223527Z
UID:10000032-1460869200-1460887200@www.njahs.org
SUMMARY:Cherry Blossom Festival NJAHS Peace Gallery Open
DESCRIPTION:
URL:https://www.njahs.org/events/cherry-blossom-festival-njahs-open-4/
LOCATION:NJAHS Peace Gallery\, 1684 Post Street\, San Francisco\, CA\, 94115\, United States
CATEGORIES:Exhibit
END:VEVENT
BEGIN:VEVENT
DTSTART;TZID=America/Los_Angeles:20160416T050000
DTEND;TZID=America/Los_Angeles:20160416T100000
DTSTAMP:20260423T044856
CREATED:20151009T184742Z
LAST-MODIFIED:20241107T223533Z
UID:10000063-1460782800-1460800800@www.njahs.org
SUMMARY:Cherry Blossom Festival NJAHS Peace Gallery Open
DESCRIPTION:
URL:https://www.njahs.org/events/cherry-blossom-festival-njahs-open-3/
LOCATION:NJAHS Peace Gallery\, 1684 Post Street\, San Francisco\, CA\, 94115\, United States
CATEGORIES:Exhibit
END:VEVENT
BEGIN:VEVENT
DTSTART;TZID=America/Los_Angeles:20160410T050000
DTEND;TZID=America/Los_Angeles:20160410T100000
DTSTAMP:20260423T044856
CREATED:20151009T184543Z
LAST-MODIFIED:20241107T223539Z
UID:10000064-1460264400-1460282400@www.njahs.org
SUMMARY:Cherry Blossom Festival NJAHS Peace Gallery Open
DESCRIPTION:
URL:https://www.njahs.org/events/cherry-blossom-festival-njahs-open-2/
LOCATION:NJAHS Peace Gallery\, 1684 Post Street\, San Francisco\, CA\, 94115\, United States
CATEGORIES:Exhibit
END:VEVENT
BEGIN:VEVENT
DTSTART;TZID=America/Los_Angeles:20160409T050000
DTEND;TZID=America/Los_Angeles:20160409T100000
DTSTAMP:20260423T044856
CREATED:20151009T184339Z
LAST-MODIFIED:20241107T223520Z
UID:10000066-1460178000-1460196000@www.njahs.org
SUMMARY:Cherry Blossom Festival NJAHS Peace Gallery Open
DESCRIPTION:
URL:https://www.njahs.org/events/cherry-blossom-festival-njahs-open/
LOCATION:NJAHS Peace Gallery\, 1684 Post Street\, San Francisco\, CA\, 94115\, United States
CATEGORIES:Exhibit
END:VEVENT
BEGIN:VEVENT
DTSTART;TZID=America/Los_Angeles:20160215T040000
DTEND;TZID=America/Los_Angeles:20160215T090000
DTSTAMP:20260423T044856
CREATED:20160209T070733Z
LAST-MODIFIED:20160209T070733Z
UID:10000017-1455508800-1455526800@www.njahs.org
SUMMARY:Presidents Day Holiday- Gallery Closed
DESCRIPTION:Exhibition Closed
URL:https://www.njahs.org/events/presidents-day-holiday-gallery-closed/
LOCATION:NJAHS Peace Gallery\, 1684 Post Street\, San Francisco\, CA\, 94115\, United States
CATEGORIES:Exhibitions
ORGANIZER;CN="NJAHS":MAILTO:njahs@njahs.org
END:VEVENT
BEGIN:VEVENT
DTSTART;TZID=America/Los_Angeles:20160205T040000
DTEND;TZID=America/Los_Angeles:20161230T090000
DTSTAMP:20260423T044856
CREATED:20160209T062621Z
LAST-MODIFIED:20161117T051102Z
UID:10000019-1454644800-1483088400@www.njahs.org
SUMMARY:Carrying ON: 110 Years of San Francisco Japantown
DESCRIPTION:2016 marks the 110th anniversary of San Francisco’s Japantown in the Western Addition. NJAHS brings to light the history of one of the oldest Japantowns that has survived over a century of discrimination\, dislocation & urban renewal. Colorful banner panels illustrate the narrative with historic photographs\, maps &  oral history quotes. On display through December 30\, 2016. \nAt the NJAHS Peace Gallery\nOpen Monday-Friday\n1st Saturday of the month\n12-5pm
URL:https://www.njahs.org/events/carrying-on-110-years-of-san-francisco-japantown/
LOCATION:NJAHS Peace Gallery\, 1684 Post Street\, San Francisco\, CA\, 94115\, United States
CATEGORIES:Exhibitions
ORGANIZER;CN="NJAHS":MAILTO:njahs@njahs.org
END:VEVENT
BEGIN:VEVENT
DTSTART;TZID=America/Los_Angeles:20151107T160000
DTEND;TZID=America/Los_Angeles:20151108T090000
DTSTAMP:20260423T044856
CREATED:20151008T103223Z
LAST-MODIFIED:20151023T015256Z
UID:10000060-1446912000-1446973200@www.njahs.org
SUMMARY:NJAHS Peace Gallery Open
DESCRIPTION:The NJAHS Peace Gallery is open every first Saturday of the month. Visit our Peace Gallery for our latest exhibit and browse our gift shop. Check our calendar for special programs\, workshops\, or events.
URL:https://www.njahs.org/events/1st-saturday-njahs-peace-gallery-open/
LOCATION:NJAHS Peace Gallery\, 1684 Post Street\, San Francisco\, CA\, 94115\, United States
CATEGORIES:Exhibitions
END:VEVENT
BEGIN:VEVENT
DTSTART;VALUE=DATE:20150717
DTEND;VALUE=DATE:20160109
DTSTAMP:20260423T044856
CREATED:20151022T054110Z
LAST-MODIFIED:20151024T075402Z
UID:10000005-1437152400-1452268799@www.njahs.org
SUMMARY:Latent August Exhibit
DESCRIPTION:Latent August: Legacy Of Hiroshima And Nagasaki \nThis Exhibit is CLOSED on Sundays. \nProduced by the National Japanese American Historical Society\, Inc.\, this exhibition combines history\, memory\, and art to present a 50 year retrospective on the atomic bombing of Hiroshima and Nagasaki. \nIts purpose is to engage the American public in an examination of the converging historical forces that led to the use of the bomb and its aftermath. \nA special feature of the exhibit is the wartime experiences of Japanese Americans from California. As Americans of Japanese ancestry\, they offer insight into the complex nature of how Americans view the legacy of the atomic bomb 50 years later.
URL:https://www.njahs.org/events/latent-august/
CATEGORIES:Exhibitions
ATTACH;FMTTYPE=image/jpeg:https://www.njahs.org/wp-content/uploads/2015/09/LatentAugust.jpg
END:VEVENT
END:VCALENDAR