BEGIN:VCALENDAR
VERSION:2.0
PRODID:-//NJAHS - ECPv6.15.20//NONSGML v1.0//EN
CALSCALE:GREGORIAN
METHOD:PUBLISH
X-WR-CALNAME:NJAHS
X-ORIGINAL-URL:https://www.njahs.org
X-WR-CALDESC:Events for NJAHS
REFRESH-INTERVAL;VALUE=DURATION:PT1H
X-Robots-Tag:noindex
X-PUBLISHED-TTL:PT1H
BEGIN:VTIMEZONE
TZID:America/Los_Angeles
BEGIN:DAYLIGHT
TZOFFSETFROM:-0800
TZOFFSETTO:-0700
TZNAME:PDT
DTSTART:20200308T100000
END:DAYLIGHT
BEGIN:STANDARD
TZOFFSETFROM:-0700
TZOFFSETTO:-0800
TZNAME:PST
DTSTART:20201101T090000
END:STANDARD
BEGIN:DAYLIGHT
TZOFFSETFROM:-0800
TZOFFSETTO:-0700
TZNAME:PDT
DTSTART:20210314T100000
END:DAYLIGHT
BEGIN:STANDARD
TZOFFSETFROM:-0700
TZOFFSETTO:-0800
TZNAME:PST
DTSTART:20211107T090000
END:STANDARD
BEGIN:DAYLIGHT
TZOFFSETFROM:-0800
TZOFFSETTO:-0700
TZNAME:PDT
DTSTART:20220313T100000
END:DAYLIGHT
BEGIN:STANDARD
TZOFFSETFROM:-0700
TZOFFSETTO:-0800
TZNAME:PST
DTSTART:20221106T090000
END:STANDARD
BEGIN:DAYLIGHT
TZOFFSETFROM:-0800
TZOFFSETTO:-0700
TZNAME:PDT
DTSTART:20230312T100000
END:DAYLIGHT
BEGIN:STANDARD
TZOFFSETFROM:-0700
TZOFFSETTO:-0800
TZNAME:PST
DTSTART:20231105T090000
END:STANDARD
BEGIN:DAYLIGHT
TZOFFSETFROM:-0800
TZOFFSETTO:-0700
TZNAME:PDT
DTSTART:20240310T100000
END:DAYLIGHT
BEGIN:STANDARD
TZOFFSETFROM:-0700
TZOFFSETTO:-0800
TZNAME:PST
DTSTART:20241103T090000
END:STANDARD
BEGIN:DAYLIGHT
TZOFFSETFROM:-0800
TZOFFSETTO:-0700
TZNAME:PDT
DTSTART:20250309T100000
END:DAYLIGHT
BEGIN:STANDARD
TZOFFSETFROM:-0700
TZOFFSETTO:-0800
TZNAME:PST
DTSTART:20251102T090000
END:STANDARD
BEGIN:DAYLIGHT
TZOFFSETFROM:-0800
TZOFFSETTO:-0700
TZNAME:PDT
DTSTART:20260308T100000
END:DAYLIGHT
BEGIN:STANDARD
TZOFFSETFROM:-0700
TZOFFSETTO:-0800
TZNAME:PST
DTSTART:20261101T090000
END:STANDARD
END:VTIMEZONE
BEGIN:VEVENT
DTSTART;TZID=America/Los_Angeles:20210807T050000
DTEND;TZID=America/Los_Angeles:20251231T090000
DTSTAMP:20260423T192027
CREATED:20210829T194805Z
LAST-MODIFIED:20260226T002532Z
UID:10000077-1628312400-1767171600@www.njahs.org
SUMMARY:MIS Historic Learning Center - Self-Guided Tour
DESCRIPTION:[vc_row][vc_column][vc_column_text css=””] \nGALLERY IS NOW OPEN Monday\, Tuesday\, Friday\, Saturday & Sunday!\nWelcome! Join us on a self-guided tour at the MIS Historic Learning Center. One of the most poignant and iconic home front stories of World War II in the Presidio. Discover the untold story of the Japanese American soldiers who secretly trained for the war against Japan. Only a mile away\, Presidio officers issued military orders to exclude and eventually remove and incarcerate Americans of Japanese ancestry behind barbed wire. Learn the remarkable stories of courage\, sacrifice and resilience in the face of overwhelming odds. \nDate & Time: Monday\, Tuesday\, Friday\, Saturday & Sunday 12pm to 5pm – Open to the Public\nSchool or Group Tours: Monday to Friday or weekends by Appointment.\nAdmission: $15 per person.\nchildren 12 and under\,  veterans\, NJAHS members\, Free \nGENERAL ADMISSION\n  \nRequest a Group Tour\nNational Japanese American Historical Society adheres to federal guidelines established for workplace and public safety.[/vc_column_text][/vc_column][/vc_row]
URL:https://www.njahs.org/events/mis-historic-learning-center-re-opening-self-guided-tour/
LOCATION:Military Intelligence Service Historic Learning Center\, Building 640\, 640 Old Mason St\, San Francisco\, CA\, 94129\, United States
CATEGORIES:Public Programs
ATTACH;FMTTYPE=image/jpeg:https://www.njahs.org/wp-content/uploads/2021/08/MIS-FRONT-1.jpg
END:VEVENT
BEGIN:VEVENT
DTSTART;TZID=America/Los_Angeles:20250711T120000
DTEND;TZID=America/Los_Angeles:20250930T170000
DTSTAMP:20260423T192027
CREATED:20250802T063713Z
LAST-MODIFIED:20250806T004345Z
UID:10000400-1752235200-1759251600@www.njahs.org
SUMMARY:LATENT AUGUST: Legacy of Hiroshima & Nagasaki - An Exhibit
DESCRIPTION:[vc_row][vc_column][vc_column_text css=””]Most Americans view the dropping of the atomic bomb from an aerial view\, a massive impressive mushroom cloud. Most Japanese see the bombing from the ground\, with all the human cost and devastation. \nAs Japanese Americans\, born and raised in America\, we are positioned to see the atomic bombing from both vantage points. Thus\, now more than ever\, it is imperative tat we bring all these perspectives into view and move toward a greater understanding of nuclear warfare and its implications today. \nCome visit LATENT AUGUST: The Legacy of Hiroshima and Nagasaki\n-The National Japanese American Historical Society\, Inc. \n\nExhibit is divided in TWO LOCATIONS \nJuly 11 – Sep. 10\, 2025\nSat & Sun\, Noon – 5PM\, $10 general admission\, FREE to members\nMIS Historic Learning Center\n640 Mason St\, Bldg. 640\nCrissy Field\, Presidio of San Francisco  CA 94129 \nJuly 11 – Sept 30\, 2025\nMon – Fri\, Noon – 5PM\, FREE\nNJAHS Peace Gallery\n1684 Post Street\nSan Francisco Japantown CA 94115 \n[/vc_column_text][/vc_column][/vc_row][vc_row][vc_column][vc_single_image image=”8941″ css=””][vc_single_image image=”8940″ css=””][/vc_column][vc_column][/vc_column][vc_column][/vc_column][vc_column][/vc_column][/vc_row]
URL:https://www.njahs.org/events/latent-august-legacy-of-hiroshima-nagasaki-an-exhibit/
LOCATION:Military Intelligence Service Historic Learning Center\, Building 640\, 640 Old Mason St\, San Francisco\, CA\, 94129\, United States
CATEGORIES:Arts & Culture,Events,Exhibit,Exhibitions,Exhibitions,Public Programs
ATTACH;FMTTYPE=image/jpeg:https://www.njahs.org/wp-content/uploads/2025/08/Latent-August-Banner-Vertical-Small-rotated.jpg
ORGANIZER;CN="NJAHS":MAILTO:njahs@njahs.org
END:VEVENT
BEGIN:VEVENT
DTSTART;TZID=America/Los_Angeles:20250712T120000
DTEND;TZID=America/Los_Angeles:20250712T143000
DTSTAMP:20260423T192027
CREATED:20250623T234207Z
LAST-MODIFIED:20251024T003538Z
UID:10000309-1752321600-1752330600@www.njahs.org
SUMMARY:2025 Annual Members Luncheon Meeting & Genealogy Workshop
DESCRIPTION:[vc_row][vc_column][vc_column_text css=””]2025 Annual Members Meeting – July 12\, 2025\, Noon to 2:30PM[/vc_column_text]COME FOR THE VIEW\, STAY FOR THE FOOD \n[/vc_column][/vc_row][vc_row][vc_column][vc_column_text css=””]NJAHS Annual Members Luncheon Mtg @ MIS Historic Learning Center\, Presidio of San Francisco \n\nCheck out the spectacular views from new Crissy Field Picnic Area\nGuided Tours\, 2025 Program updates\nExplore LATENT AUGUST: Legacy of Hiroshima & Nagasaki exhibit on site\nEnjoy bento lunch from Delica’s (optional)\nUncover family and military genealogy tips\nRide the MUNI 30 to Transit stop\, adjacent to Bldg. 640\n\n\n\n[/vc_column_text][vc_btn title=”Register by EVENTBRITE” color=”success” css=”” link=”url:https%3A%2F%2Fwww.eventbrite.com%2Fe%2F2025-njahs-annual-members-luncheon-meeting-genealogy-workshop-tickets-1425047257709%3Faff%3Doddtdtcreator|target:_blank”][/vc_column][/vc_row][vc_row][vc_column]REGISTER NOW – Download Form and Email to njahs@njahs.org[/vc_column][/vc_row][vc_row][vc_column][vc_column_text css=””] \n\n \n  \n  \n  \n  \n  \n  \n  \n  \n  \nSee new sites along Crissy Field. Check out new installations @ MIS Historic Learning Center. Hear program updates. Start your genealogy family search using NJAHS Archives\, resource finding aids\, upcoming research. Register Now. Bento Option. \nLilith Benjamin\, MA\, Collections Manager \nRosalyn Tonai\, MPA Executive Director fills you in on what’s in store \n \nHon. Bryan Yagi\, explores research findings of military veterans and how you can too![/vc_column_text][/vc_column][/vc_row]
URL:https://www.njahs.org/events/2025-annual-members-luncheon-meeting-genealogy-workshop/
LOCATION:Military Intelligence Service Historic Learning Center\, Building 640\, 640 Old Mason St\, San Francisco\, CA\, 94129\, United States
CATEGORIES:Events,Public Programs,Workshops
ORGANIZER;CN="NJAHS":MAILTO:njahs@njahs.org
END:VEVENT
BEGIN:VEVENT
DTSTART;TZID=America/Los_Angeles:20250712T120000
DTEND;TZID=America/Los_Angeles:20250712T143000
DTSTAMP:20260423T192027
CREATED:20250802T065448Z
LAST-MODIFIED:20250802T065448Z
UID:10000340-1752321600-1752330600@www.njahs.org
SUMMARY:We Choose Peace- Remembering Hiroshima & Nagasaki
DESCRIPTION:[vc_row][vc_column][vc_column_text css=””]Eye Witness for Peace: 80th Anniversary Commemoration of the Atomic Bombings Program Series /vc_column_text]REMEMBERING HIROSHIMA & NAGASAKI \n[/vc_column][/vc_row][vc_row][vc_column][vc_column_text css=””]We Choose Peace: Remembering Hiroshima & Nagasaki. San Francisco’s Japantown \n\nWeds. Aug. 6\, 2025  @ 4:15PM. We Choose Peace. Osaka Way Peacemaking\, 200\,000 Blessings. Gather around 3:45PM. Live Performance by Gen Taiko\, Japanese American Religious Federation\, Japantown Cultural Arts District\, National Japanese American Historical Society\, Lao Seri Association & more.\nSat.. Aug. 9\, 2025 @11:02AM. We Choose Peace. Osaka Way Peacemaking: Generations of Joyful Dance for World Peace.. Live Performance by Gen Taiko\, Japanese American Religious Federation\, Japantown Cultural Arts District\, Nihonmachi Little Friends\, National Japanese American Historical Society\, & more.\nSat. Aug. 9\, 2025. 12 NOON.  AMC Kabuki 8 Theatres. Film Screening of White Light/Black Rain: The Destruction of Hiroshima and Nagasaki (2007\, 86 min). Steven Okazaki\, filmmaker. Primetime Emmy Award winner.\nSat. Aug. 9\, 2025\, 2PM. 80th Anniversary Commemoration of the Atomic Bombings of Hiroshima & Nagasaki. AMC Kabuki 8 Theatres.1881 Post St. Interfaith Blessing. A Girls from Hiroshima (2022) by Cynthia Liu. Keynote presentation by Manon and Kanon Iwata\, founders of Teens 4 Disarmament & Nonproliferation. Reflections of Hibakusha\, Lanterns of Remembrance Ceremony. Presented by Eyewitness for Peace Consortium: Friends of Hibakusha\, Nichi Bei Foundation\, Japanese American Religious Federation\, Genryu Arts\, National Japanese American Historical Society\, Japantown Task Force\, Inc. Donation Suggested. RESERVE TICKETS HERE.  SPONSORS\nVisit LATENT AUGUST: Legacy of Hiroshima & Nagasaki exhibit at NJAHS Peace Gallery\, 1684 Post Street\, 12 – 5PM. Sat & Sun Aug 2 & 3\, Monday – Friday and 1st Saturdays thru September 30\, 2025. FREE\nand @ MIS Historic Learning Center at Building 640\, Presidio of SF (Weekends only\, 12-5PM). $10 Admission.. NJAHS Members FREE. VISIT\nSat. Sept 24\, 2025 @ 11AM. NJAHS- 1684 Post St. LATENT AUGUST: Legacy of Hiroshima & Nagasaki. SFSU Panel Discussion.\nSat. Sept 24\, 2025 @1PM. Studio Gen- Japan Center East Mall\, 2nd Floor. Art & Activism for Peace. The role .of art making in community\, art panel discussion\, bon odori workshop.\n\n  \n  \n \n \n  \n 
URL:https://www.njahs.org/events/we-choose-peace-remembering-hiroshima-nagasaki-2/
LOCATION:Military Intelligence Service Historic Learning Center\, Building 640\, 640 Old Mason St\, San Francisco\, CA\, 94129\, United States
CATEGORIES:Events,Public Programs,Workshops
ORGANIZER;CN="NJAHS":MAILTO:njahs@njahs.org
END:VEVENT
END:VCALENDAR