BEGIN:VCALENDAR
VERSION:2.0
PRODID:-//NJAHS - ECPv6.15.20//NONSGML v1.0//EN
CALSCALE:GREGORIAN
METHOD:PUBLISH
X-WR-CALNAME:NJAHS
X-ORIGINAL-URL:https://www.njahs.org
X-WR-CALDESC:Events for NJAHS
REFRESH-INTERVAL;VALUE=DURATION:PT1H
X-Robots-Tag:noindex
X-PUBLISHED-TTL:PT1H
BEGIN:VTIMEZONE
TZID:America/Los_Angeles
BEGIN:DAYLIGHT
TZOFFSETFROM:-0800
TZOFFSETTO:-0700
TZNAME:PDT
DTSTART:20150308T100000
END:DAYLIGHT
BEGIN:STANDARD
TZOFFSETFROM:-0700
TZOFFSETTO:-0800
TZNAME:PST
DTSTART:20151101T090000
END:STANDARD
BEGIN:DAYLIGHT
TZOFFSETFROM:-0800
TZOFFSETTO:-0700
TZNAME:PDT
DTSTART:20160313T100000
END:DAYLIGHT
BEGIN:STANDARD
TZOFFSETFROM:-0700
TZOFFSETTO:-0800
TZNAME:PST
DTSTART:20161106T090000
END:STANDARD
BEGIN:DAYLIGHT
TZOFFSETFROM:-0800
TZOFFSETTO:-0700
TZNAME:PDT
DTSTART:20170312T100000
END:DAYLIGHT
BEGIN:STANDARD
TZOFFSETFROM:-0700
TZOFFSETTO:-0800
TZNAME:PST
DTSTART:20171105T090000
END:STANDARD
BEGIN:DAYLIGHT
TZOFFSETFROM:-0800
TZOFFSETTO:-0700
TZNAME:PDT
DTSTART:20180311T100000
END:DAYLIGHT
BEGIN:STANDARD
TZOFFSETFROM:-0700
TZOFFSETTO:-0800
TZNAME:PST
DTSTART:20181104T090000
END:STANDARD
BEGIN:DAYLIGHT
TZOFFSETFROM:-0800
TZOFFSETTO:-0700
TZNAME:PDT
DTSTART:20190310T100000
END:DAYLIGHT
BEGIN:STANDARD
TZOFFSETFROM:-0700
TZOFFSETTO:-0800
TZNAME:PST
DTSTART:20191103T090000
END:STANDARD
BEGIN:DAYLIGHT
TZOFFSETFROM:-0800
TZOFFSETTO:-0700
TZNAME:PDT
DTSTART:20200308T100000
END:DAYLIGHT
BEGIN:STANDARD
TZOFFSETFROM:-0700
TZOFFSETTO:-0800
TZNAME:PST
DTSTART:20201101T090000
END:STANDARD
BEGIN:DAYLIGHT
TZOFFSETFROM:-0800
TZOFFSETTO:-0700
TZNAME:PDT
DTSTART:20210314T100000
END:DAYLIGHT
BEGIN:STANDARD
TZOFFSETFROM:-0700
TZOFFSETTO:-0800
TZNAME:PST
DTSTART:20211107T090000
END:STANDARD
BEGIN:DAYLIGHT
TZOFFSETFROM:-0800
TZOFFSETTO:-0700
TZNAME:PDT
DTSTART:20220313T100000
END:DAYLIGHT
BEGIN:STANDARD
TZOFFSETFROM:-0700
TZOFFSETTO:-0800
TZNAME:PST
DTSTART:20221106T090000
END:STANDARD
BEGIN:DAYLIGHT
TZOFFSETFROM:-0800
TZOFFSETTO:-0700
TZNAME:PDT
DTSTART:20230312T100000
END:DAYLIGHT
BEGIN:STANDARD
TZOFFSETFROM:-0700
TZOFFSETTO:-0800
TZNAME:PST
DTSTART:20231105T090000
END:STANDARD
BEGIN:DAYLIGHT
TZOFFSETFROM:-0800
TZOFFSETTO:-0700
TZNAME:PDT
DTSTART:20240310T100000
END:DAYLIGHT
BEGIN:STANDARD
TZOFFSETFROM:-0700
TZOFFSETTO:-0800
TZNAME:PST
DTSTART:20241103T090000
END:STANDARD
END:VTIMEZONE
BEGIN:VEVENT
DTSTART;TZID=America/Los_Angeles:20230414T170000
DTEND;TZID=America/Los_Angeles:20230527T100000
DTSTAMP:20260423T091552
CREATED:20230416T114916Z
LAST-MODIFIED:20241107T223353Z
UID:10000172-1681491600-1685181600@www.njahs.org
SUMMARY:Music Makers: Bands Behind Barbed Wire - Memorial Day Weekend Concert -FREE
DESCRIPTION:[vc_row][vc_column][vc_single_image image=”7553″ img_size=”full”][/vc_column][vc_column][vc_column_text]Join us Saturday May 27\, 1- 3PM for MUSIC MAKERS: Bands Behind Barbed Wire\, a FREE Jazz Concert featuring AKIRA TANA Ensemble with Kim Nalley and Taiko master Jimi Nakagawa. Presented by NJAHS\, this Memorial Day Weekend event is in conjunction with Asian American Pacific Islander Heritage Month. Bring friends and family\, your picnic gear\, your goza (lawn tatami) and blankets for a most enjoyable concert in honor of the late musician and educator George Yoshida. \nWhile limited seating will be available\, we recommend you bring your own picnic gear\, blankets and low profile lawn chairs (No tents or umbrellas). \nRegistration is encouraged for general headcount: https://bit.ly/43TKlro \nFlyer \nPress Release-Music Makers-Behind Barbed Wire \nImages[/vc_column_text][/vc_column][/vc_row]
URL:https://www.njahs.org/events/musicmakers-bands-behind-barbed-wire-memorial-day-weekend-concert-free/
LOCATION:Presidio Tunnel Tops –\, 210 Lincoln Boulevard\, San Francisco\, CA\, 94129\, United States
CATEGORIES:Events,Public Programs
ORGANIZER;CN="NJAHS":MAILTO:njahs@njahs.org
END:VEVENT
BEGIN:VEVENT
DTSTART;TZID=America/Los_Angeles:20160117T050000
DTEND;TZID=America/Los_Angeles:20160117T070000
DTSTAMP:20260423T091552
CREATED:20151204T091610Z
LAST-MODIFIED:20160312T041544Z
UID:10000011-1453006800-1453014000@www.njahs.org
SUMMARY:NPS Intel On Interment Tour
DESCRIPTION:Learn about the poignant irony of the Japanese American experience during WWII on an easy\, half-mile walk that includes short tour inside the new Military Intelligence Service Historic Learning Center at the Presidio.  Meet ranger James Osborne at Bldg 640\, the Military Intelligence Service Historic Learning Center\, on Crissy Field next to Sports Basement. \nReservations required; please call (415) 561-4323.
URL:https://www.njahs.org/events/nps-intel-on-interment-tour/
LOCATION:Military Intelligence Service Historic Learning Center\, Building 640\, 640 Old Mason St\, San Francisco\, CA\, 94129\, United States
CATEGORIES:Events
ATTACH;FMTTYPE=image/jpeg:https://www.njahs.org/wp-content/uploads/2015/12/japanese-american-wwii.jpg
END:VEVENT
END:VCALENDAR