BEGIN:VCALENDAR
VERSION:2.0
PRODID:-//NJAHS - ECPv6.15.20//NONSGML v1.0//EN
CALSCALE:GREGORIAN
METHOD:PUBLISH
X-ORIGINAL-URL:https://www.njahs.org
X-WR-CALDESC:Events for NJAHS
REFRESH-INTERVAL;VALUE=DURATION:PT1H
X-Robots-Tag:noindex
X-PUBLISHED-TTL:PT1H
BEGIN:VTIMEZONE
TZID:America/Los_Angeles
BEGIN:DAYLIGHT
TZOFFSETFROM:-0800
TZOFFSETTO:-0700
TZNAME:PDT
DTSTART:20190310T100000
END:DAYLIGHT
BEGIN:STANDARD
TZOFFSETFROM:-0700
TZOFFSETTO:-0800
TZNAME:PST
DTSTART:20191103T090000
END:STANDARD
BEGIN:DAYLIGHT
TZOFFSETFROM:-0800
TZOFFSETTO:-0700
TZNAME:PDT
DTSTART:20200308T100000
END:DAYLIGHT
BEGIN:STANDARD
TZOFFSETFROM:-0700
TZOFFSETTO:-0800
TZNAME:PST
DTSTART:20201101T090000
END:STANDARD
BEGIN:DAYLIGHT
TZOFFSETFROM:-0800
TZOFFSETTO:-0700
TZNAME:PDT
DTSTART:20210314T100000
END:DAYLIGHT
BEGIN:STANDARD
TZOFFSETFROM:-0700
TZOFFSETTO:-0800
TZNAME:PST
DTSTART:20211107T090000
END:STANDARD
END:VTIMEZONE
BEGIN:VEVENT
DTSTART;TZID=America/Los_Angeles:20200905T100000
DTEND;TZID=America/Los_Angeles:20200905T110000
DTSTAMP:20260423T120305
CREATED:20200806T084612Z
LAST-MODIFIED:20220514T070238Z
UID:10000128-1599300000-1599303600@www.njahs.org
SUMMARY:Virtual Broadcasts: ANNUAL AWARDS TRIBUTE 2020 LIVESTREAM SEPT. 5
DESCRIPTION:Click here to watch\nFor the first time ever\, NJAHS will Livestream the Annual Awards Tribute on Sat. September 5\, 2020 at 5PM. \nGo to our Givebutter page to WATCH the Annual Awards Tribute and DONATE in real time to contribute to our Event Campaign! \nREFLECTING BACK\nMoving Forward \nJOIN US AS WE HONOR THOSE WHO HAVE FORGED NEW PATHS FOR CHANGE IN THE 1970s\, INSPIRED GENERATIONS OF LEADERS\, AND REMAINED STEADFAST\nIN THEIR BELIEFS TO PROMOTE A JUST AND EQUITABLE WORLD. \nWE HONOR OUR CHANGE-MAKERS—WRITERS\, ACTIVISTS\, SPIRITUAL LEADERS\, AND PUBLISHERS—FOR THEIR PERSISTENCE AND POSITIVE VISION FOR THE FUTURE. \nThe safety of our honorees\, guests & volunteers are our top priority. Join us for a Virtual Awards Event that will be most memorable. The new date for our 2020 Annual Dinner is Sat. September 5\, 2020 at 5PM. Join us and your family for an evening dedicated to reflecting back and moving forward with John Tateishi\, Dr. Reiko True\, Rev. Ron Kobata\, and Asian American Curriculum Project. \nDATE: September 5\, 2020 \n4:00 pm Registration \n5:00 pm Program\, emcee Jana Katsuyama\, FOX-2 \n6:00 pm Film Previews set in Family Chat Rooms  \n(415) 921-5007\nnjahs@njahs.org \n2020 SPONSOR LEVELS\nAs Sponsors\, your contribution is 100% tax deductible. You will be fully acknowledged as a sponsor of this broadcast event. The deadline for program broadcast inclusion is Monday\, August 31. Your donation will support our Teacher Education Program to teach important lessons of our history. \nLegacy Sponsor $25\,000 will be named prominently on the MIS Historic Learning Center Donor Wall* with a 12.75” x 6.75” plaque and memento. You will be entitled to have your name and corporate logo published on our website and will appear prominently in broadcasts connected to NJAHS’s Annual Awards Tribute. Your company’s name and logo will appear in the Nikkei Heritage issue and a FULL screen color ad on Zoom and YouTube program. After the program\, you are welcome to gather with your invited guests to a VIP family/friends chat room where you can view film previews. We gladly accept pledges. \nCommemorative Sponsor $10\,000 Same as above\, 3”x 19.5” donor plaque. \nPatron Sponsor $5\,000 Same as above\, 3” x 12.75” donor plaque. \nGolden Gate Sponsor $3\,500 Same as above\, 3”x 6” donor plaque. \n*DONOR WALL PLAQUE INSTALLATION NOVEMBER 2020 \nTable of Ten $1\,750 will be recognized during the program broadcast\, Chat Room of 10 guests. \nIndividual $175 will be recognized as an Event Donor\, admit one person. \nJOIN US & DONATE NOW\nDownload Invitation \nDonate by Mail
URL:https://www.njahs.org/events/njahs-annual-awards-tribute/
LOCATION:Futures Without Violence\, 100 Montgomery St\, San Francisco\, CA\, 94129\, United States
CATEGORIES:Events
END:VEVENT
END:VCALENDAR