BEGIN:VCALENDAR
VERSION:2.0
PRODID:-//NJAHS - ECPv6.15.20//NONSGML v1.0//EN
CALSCALE:GREGORIAN
METHOD:PUBLISH
X-ORIGINAL-URL:https://www.njahs.org
X-WR-CALDESC:Events for NJAHS
REFRESH-INTERVAL;VALUE=DURATION:PT1H
X-Robots-Tag:noindex
X-PUBLISHED-TTL:PT1H
BEGIN:VTIMEZONE
TZID:America/Los_Angeles
BEGIN:DAYLIGHT
TZOFFSETFROM:-0800
TZOFFSETTO:-0700
TZNAME:PDT
DTSTART:20140309T100000
END:DAYLIGHT
BEGIN:STANDARD
TZOFFSETFROM:-0700
TZOFFSETTO:-0800
TZNAME:PST
DTSTART:20141102T090000
END:STANDARD
BEGIN:DAYLIGHT
TZOFFSETFROM:-0800
TZOFFSETTO:-0700
TZNAME:PDT
DTSTART:20150308T100000
END:DAYLIGHT
BEGIN:STANDARD
TZOFFSETFROM:-0700
TZOFFSETTO:-0800
TZNAME:PST
DTSTART:20151101T090000
END:STANDARD
BEGIN:DAYLIGHT
TZOFFSETFROM:-0800
TZOFFSETTO:-0700
TZNAME:PDT
DTSTART:20160313T100000
END:DAYLIGHT
BEGIN:STANDARD
TZOFFSETFROM:-0700
TZOFFSETTO:-0800
TZNAME:PST
DTSTART:20161106T090000
END:STANDARD
BEGIN:DAYLIGHT
TZOFFSETFROM:-0800
TZOFFSETTO:-0700
TZNAME:PDT
DTSTART:20170312T100000
END:DAYLIGHT
BEGIN:STANDARD
TZOFFSETFROM:-0700
TZOFFSETTO:-0800
TZNAME:PST
DTSTART:20171105T090000
END:STANDARD
BEGIN:DAYLIGHT
TZOFFSETFROM:-0800
TZOFFSETTO:-0700
TZNAME:PDT
DTSTART:20180311T100000
END:DAYLIGHT
BEGIN:STANDARD
TZOFFSETFROM:-0700
TZOFFSETTO:-0800
TZNAME:PST
DTSTART:20181104T090000
END:STANDARD
BEGIN:DAYLIGHT
TZOFFSETFROM:-0800
TZOFFSETTO:-0700
TZNAME:PDT
DTSTART:20190310T100000
END:DAYLIGHT
BEGIN:STANDARD
TZOFFSETFROM:-0700
TZOFFSETTO:-0800
TZNAME:PST
DTSTART:20191103T090000
END:STANDARD
BEGIN:DAYLIGHT
TZOFFSETFROM:-0800
TZOFFSETTO:-0700
TZNAME:PDT
DTSTART:20200308T100000
END:DAYLIGHT
BEGIN:STANDARD
TZOFFSETFROM:-0700
TZOFFSETTO:-0800
TZNAME:PST
DTSTART:20201101T090000
END:STANDARD
BEGIN:DAYLIGHT
TZOFFSETFROM:-0800
TZOFFSETTO:-0700
TZNAME:PDT
DTSTART:20210314T100000
END:DAYLIGHT
BEGIN:STANDARD
TZOFFSETFROM:-0700
TZOFFSETTO:-0800
TZNAME:PST
DTSTART:20211107T090000
END:STANDARD
BEGIN:DAYLIGHT
TZOFFSETFROM:-0800
TZOFFSETTO:-0700
TZNAME:PDT
DTSTART:20220313T100000
END:DAYLIGHT
BEGIN:STANDARD
TZOFFSETFROM:-0700
TZOFFSETTO:-0800
TZNAME:PST
DTSTART:20221106T090000
END:STANDARD
BEGIN:DAYLIGHT
TZOFFSETFROM:-0800
TZOFFSETTO:-0700
TZNAME:PDT
DTSTART:20230312T100000
END:DAYLIGHT
BEGIN:STANDARD
TZOFFSETFROM:-0700
TZOFFSETTO:-0800
TZNAME:PST
DTSTART:20231105T090000
END:STANDARD
BEGIN:DAYLIGHT
TZOFFSETFROM:-0800
TZOFFSETTO:-0700
TZNAME:PDT
DTSTART:20240310T100000
END:DAYLIGHT
BEGIN:STANDARD
TZOFFSETFROM:-0700
TZOFFSETTO:-0800
TZNAME:PST
DTSTART:20241103T090000
END:STANDARD
END:VTIMEZONE
BEGIN:VEVENT
DTSTART;TZID=America/Los_Angeles:20230421T010000
DTEND;TZID=America/Los_Angeles:20230723T133000
DTSTAMP:20260423T092258
CREATED:20230311T135219Z
LAST-MODIFIED:20230421T100546Z
UID:10000168-1682038800-1690119000@www.njahs.org
SUMMARY:Amache National Historic Site Foundation Document
DESCRIPTION:The National Park Service is preparing a foundation document to guide future planning and management of Amache National Historic Site. We invite you to participate in this effort.  \nOn March 18\, 2022\, President Biden signed the Amache National Historic Site Act into law\, starting the process to establish Amache as a new unit of the national park system. The new legislation directs the National Park Service to preserve and protect Amache and to interpret Amache’s history and continuing relevance for current and future generations. As the National Park Service works toward those goals\, one of the first steps is developing a foundation document. A foundation document identifies a national park unit’s core purpose and significance\, its most important resources and values\, and the key interpretive themes or concepts that tell its unique story. Foundation documents also identify important issues to be addressed in future planning and data collection efforts. A foundation document is not intended to provide specific recommendations for how the park will be managed but will instead inform future decision making by documenting what is most important about Amache and what efforts are needed to protect and preserve its resources. Foundation documents are a required first step before comprehensive management and development planning. \nThe National Park Service would like to hear from you and gather your perspectives in several ways as the foundation document is developed. \nAttend a public meeting. Meet with the National Park Service to learn more about the foundation document process and share your thoughts and ideas on the future of Amache by attending a public meeting. Meetings will be held in California and Colorado. Each meeting will follow the same format\, beginning with an informational presentation and followed by opportunities to ask questions and share thoughts and ideas with NPS staff in an open house setting. Please consider joining us at the location and on the day that is most convenient for you. Information on public meetings is listed below\, as well as on the project web page (https://parkplanning.nps.gov/AMCH_Foundation) \nAttend a virtual information session. This virtual meeting will begin with the same informational presentation as the in-person meetings\, followed by a moderated question-and-answer session about foundation documents and the best methods for submitting written comments. This meeting will be recorded and remain available on the project website to view at your convenience. The meeting date and link is included below. \n \nDownload the flyer to learn more ways to participate!
URL:https://www.njahs.org/events/amache-national-historic-site-foundation-document/
LOCATION:Japanese Cultural and Community Center of Northern California\, 1840 Sutter St.\, San Francisco\, CA\, 94115\, United States
CATEGORIES:Events
ATTACH;FMTTYPE=image/jpeg:https://www.njahs.org/wp-content/uploads/2023/03/AMACHE-COVER-PCITURE.jpg
END:VEVENT
BEGIN:VEVENT
DTSTART;TZID=America/Los_Angeles:20151030T110000
DTEND;TZID=America/Los_Angeles:20151030T133000
DTSTAMP:20260423T092258
CREATED:20151008T005806Z
LAST-MODIFIED:20151023T015214Z
UID:10000048-1446202800-1446211800@www.njahs.org
SUMMARY:JCCCNC Halloween Carnival Slime Booth
DESCRIPTION:Games and prizes\, tricks and treats\, arts and crafts and goodies to eat! On October 30th there is only one place to be: the Halloween Carnival at the JCCCNC! Don’t miss this great event for the whole family! Kids and parents alike will delight in our annual Halloween Carnival. Visit the NJAHS Slime Booth and learn about our upcoming programs.  \nLearn more >
URL:https://www.njahs.org/events/jcccnchalloween/
LOCATION:Japanese Cultural and Community Center of Northern California\, 1840 Sutter St.\, San Francisco\, CA\, 94115\, United States
CATEGORIES:Public Programs
END:VEVENT
END:VCALENDAR