BEGIN:VCALENDAR
VERSION:2.0
PRODID:-//NJAHS - ECPv6.15.20//NONSGML v1.0//EN
CALSCALE:GREGORIAN
METHOD:PUBLISH
X-WR-CALNAME:NJAHS
X-ORIGINAL-URL:https://www.njahs.org
X-WR-CALDESC:Events for NJAHS
REFRESH-INTERVAL;VALUE=DURATION:PT1H
X-Robots-Tag:noindex
X-PUBLISHED-TTL:PT1H
BEGIN:VTIMEZONE
TZID:America/Los_Angeles
BEGIN:DAYLIGHT
TZOFFSETFROM:-0800
TZOFFSETTO:-0700
TZNAME:PDT
DTSTART:20230312T100000
END:DAYLIGHT
BEGIN:STANDARD
TZOFFSETFROM:-0700
TZOFFSETTO:-0800
TZNAME:PST
DTSTART:20231105T090000
END:STANDARD
BEGIN:DAYLIGHT
TZOFFSETFROM:-0800
TZOFFSETTO:-0700
TZNAME:PDT
DTSTART:20240310T100000
END:DAYLIGHT
BEGIN:STANDARD
TZOFFSETFROM:-0700
TZOFFSETTO:-0800
TZNAME:PST
DTSTART:20241103T090000
END:STANDARD
BEGIN:DAYLIGHT
TZOFFSETFROM:-0800
TZOFFSETTO:-0700
TZNAME:PDT
DTSTART:20250309T100000
END:DAYLIGHT
BEGIN:STANDARD
TZOFFSETFROM:-0700
TZOFFSETTO:-0800
TZNAME:PST
DTSTART:20251102T090000
END:STANDARD
END:VTIMEZONE
BEGIN:VEVENT
DTSTART;TZID=America/Los_Angeles:20240810T150000
DTEND;TZID=America/Los_Angeles:20240810T190000
DTSTAMP:20260423T094134
CREATED:20240806T194644Z
LAST-MODIFIED:20241011T000145Z
UID:10000297-1723302000-1723316400@www.njahs.org
SUMMARY:A Love Letter to J-Town: Stories of Resilience
DESCRIPTION:[vc_row][vc_column][vc_column_text css=””]Join KOHO\, REALSOUL\, Ryan Takemiya\, and the National Japanese American Historical Society this Saturday\, August 10 from 3:00 PM to 7:00 PM for “A Love Letter to J-Town: Stories of Resilience”\, a special event that highlights the history of redevelopment and gentrification in Japantown through storytelling. \n\n\n\n\n\n\n\n\n\n\n\n\n\n\nThis event will feature storytellers and poets who will share personal and historical perspectives on Japantown’s rich legacy. The full lineup of performers is: \n\nLauren Ito\nJoyce Nakamura\nMickey Imura\nRichard Hasimoto\nFrancis Wong\nJudy Hamaguchi\nSarah Matsui\nGreer Nakadegawa-Lee\n\nIn addition to the storytelling\, attendees can explore a variety of local vendors offering unique goods and crafts. \nClick here for more information. \n\n\n\n\n\n\n\n\n\n\n\n\n\n\n\n\n\n\n\n[/vc_column_text][/vc_column][/vc_row]
URL:https://www.njahs.org/events/a-love-letter-to-j-town-stories-of-resilience/
LOCATION:KOHO Co-Creative Hub\, 1675 Post St\, San Francisco\, 94115\, United States
CATEGORIES:Arts & Culture,Events
ATTACH;FMTTYPE=image/png:https://www.njahs.org/wp-content/uploads/2024/08/unnamed.png
END:VEVENT
END:VCALENDAR