BEGIN:VCALENDAR
VERSION:2.0
PRODID:-//NJAHS - ECPv6.15.20//NONSGML v1.0//EN
CALSCALE:GREGORIAN
METHOD:PUBLISH
X-WR-CALNAME:NJAHS
X-ORIGINAL-URL:https://www.njahs.org
X-WR-CALDESC:Events for NJAHS
REFRESH-INTERVAL;VALUE=DURATION:PT1H
X-Robots-Tag:noindex
X-PUBLISHED-TTL:PT1H
BEGIN:VTIMEZONE
TZID:America/Los_Angeles
BEGIN:DAYLIGHT
TZOFFSETFROM:-0800
TZOFFSETTO:-0700
TZNAME:PDT
DTSTART:20140309T100000
END:DAYLIGHT
BEGIN:STANDARD
TZOFFSETFROM:-0700
TZOFFSETTO:-0800
TZNAME:PST
DTSTART:20141102T090000
END:STANDARD
BEGIN:DAYLIGHT
TZOFFSETFROM:-0800
TZOFFSETTO:-0700
TZNAME:PDT
DTSTART:20150308T100000
END:DAYLIGHT
BEGIN:STANDARD
TZOFFSETFROM:-0700
TZOFFSETTO:-0800
TZNAME:PST
DTSTART:20151101T090000
END:STANDARD
BEGIN:DAYLIGHT
TZOFFSETFROM:-0800
TZOFFSETTO:-0700
TZNAME:PDT
DTSTART:20160313T100000
END:DAYLIGHT
BEGIN:STANDARD
TZOFFSETFROM:-0700
TZOFFSETTO:-0800
TZNAME:PST
DTSTART:20161106T090000
END:STANDARD
BEGIN:DAYLIGHT
TZOFFSETFROM:-0800
TZOFFSETTO:-0700
TZNAME:PDT
DTSTART:20170312T100000
END:DAYLIGHT
BEGIN:STANDARD
TZOFFSETFROM:-0700
TZOFFSETTO:-0800
TZNAME:PST
DTSTART:20171105T090000
END:STANDARD
BEGIN:DAYLIGHT
TZOFFSETFROM:-0800
TZOFFSETTO:-0700
TZNAME:PDT
DTSTART:20180311T100000
END:DAYLIGHT
BEGIN:STANDARD
TZOFFSETFROM:-0700
TZOFFSETTO:-0800
TZNAME:PST
DTSTART:20181104T090000
END:STANDARD
BEGIN:DAYLIGHT
TZOFFSETFROM:-0800
TZOFFSETTO:-0700
TZNAME:PDT
DTSTART:20190310T100000
END:DAYLIGHT
BEGIN:STANDARD
TZOFFSETFROM:-0700
TZOFFSETTO:-0800
TZNAME:PST
DTSTART:20191103T090000
END:STANDARD
BEGIN:DAYLIGHT
TZOFFSETFROM:-0800
TZOFFSETTO:-0700
TZNAME:PDT
DTSTART:20200308T100000
END:DAYLIGHT
BEGIN:STANDARD
TZOFFSETFROM:-0700
TZOFFSETTO:-0800
TZNAME:PST
DTSTART:20201101T090000
END:STANDARD
BEGIN:DAYLIGHT
TZOFFSETFROM:-0800
TZOFFSETTO:-0700
TZNAME:PDT
DTSTART:20210314T100000
END:DAYLIGHT
BEGIN:STANDARD
TZOFFSETFROM:-0700
TZOFFSETTO:-0800
TZNAME:PST
DTSTART:20211107T090000
END:STANDARD
BEGIN:DAYLIGHT
TZOFFSETFROM:-0800
TZOFFSETTO:-0700
TZNAME:PDT
DTSTART:20220313T100000
END:DAYLIGHT
BEGIN:STANDARD
TZOFFSETFROM:-0700
TZOFFSETTO:-0800
TZNAME:PST
DTSTART:20221106T090000
END:STANDARD
BEGIN:DAYLIGHT
TZOFFSETFROM:-0800
TZOFFSETTO:-0700
TZNAME:PDT
DTSTART:20230312T100000
END:DAYLIGHT
BEGIN:STANDARD
TZOFFSETFROM:-0700
TZOFFSETTO:-0800
TZNAME:PST
DTSTART:20231105T090000
END:STANDARD
BEGIN:DAYLIGHT
TZOFFSETFROM:-0800
TZOFFSETTO:-0700
TZNAME:PDT
DTSTART:20240310T100000
END:DAYLIGHT
BEGIN:STANDARD
TZOFFSETFROM:-0700
TZOFFSETTO:-0800
TZNAME:PST
DTSTART:20241103T090000
END:STANDARD
BEGIN:DAYLIGHT
TZOFFSETFROM:-0800
TZOFFSETTO:-0700
TZNAME:PDT
DTSTART:20250309T100000
END:DAYLIGHT
BEGIN:STANDARD
TZOFFSETFROM:-0700
TZOFFSETTO:-0800
TZNAME:PST
DTSTART:20251102T090000
END:STANDARD
BEGIN:DAYLIGHT
TZOFFSETFROM:-0800
TZOFFSETTO:-0700
TZNAME:PDT
DTSTART:20260308T100000
END:DAYLIGHT
BEGIN:STANDARD
TZOFFSETFROM:-0700
TZOFFSETTO:-0800
TZNAME:PST
DTSTART:20261101T090000
END:STANDARD
END:VTIMEZONE
BEGIN:VEVENT
DTSTART;TZID=America/Los_Angeles:20250711T120000
DTEND;TZID=America/Los_Angeles:20250930T170000
DTSTAMP:20260423T064030
CREATED:20250802T063713Z
LAST-MODIFIED:20250806T004345Z
UID:10000400-1752235200-1759251600@www.njahs.org
SUMMARY:LATENT AUGUST: Legacy of Hiroshima & Nagasaki - An Exhibit
DESCRIPTION:[vc_row][vc_column][vc_column_text css=””]Most Americans view the dropping of the atomic bomb from an aerial view\, a massive impressive mushroom cloud. Most Japanese see the bombing from the ground\, with all the human cost and devastation. \nAs Japanese Americans\, born and raised in America\, we are positioned to see the atomic bombing from both vantage points. Thus\, now more than ever\, it is imperative tat we bring all these perspectives into view and move toward a greater understanding of nuclear warfare and its implications today. \nCome visit LATENT AUGUST: The Legacy of Hiroshima and Nagasaki\n-The National Japanese American Historical Society\, Inc. \n\nExhibit is divided in TWO LOCATIONS \nJuly 11 – Sep. 10\, 2025\nSat & Sun\, Noon – 5PM\, $10 general admission\, FREE to members\nMIS Historic Learning Center\n640 Mason St\, Bldg. 640\nCrissy Field\, Presidio of San Francisco  CA 94129 \nJuly 11 – Sept 30\, 2025\nMon – Fri\, Noon – 5PM\, FREE\nNJAHS Peace Gallery\n1684 Post Street\nSan Francisco Japantown CA 94115 \n[/vc_column_text][/vc_column][/vc_row][vc_row][vc_column][vc_single_image image=”8941″ css=””][vc_single_image image=”8940″ css=””][/vc_column][vc_column][/vc_column][vc_column][/vc_column][vc_column][/vc_column][/vc_row]
URL:https://www.njahs.org/events/latent-august-legacy-of-hiroshima-nagasaki-an-exhibit/
LOCATION:Military Intelligence Service Historic Learning Center\, Building 640\, 640 Old Mason St\, San Francisco\, CA\, 94129\, United States
CATEGORIES:Arts & Culture,Events,Exhibit,Exhibitions,Exhibitions,Public Programs
ATTACH;FMTTYPE=image/jpeg:https://www.njahs.org/wp-content/uploads/2025/08/Latent-August-Banner-Vertical-Small-rotated.jpg
ORGANIZER;CN="NJAHS":MAILTO:njahs@njahs.org
END:VEVENT
BEGIN:VEVENT
DTSTART;TZID=America/Los_Angeles:20250523T173000
DTEND;TZID=America/Los_Angeles:20250523T203000
DTSTAMP:20260423T064030
CREATED:20250421T230520Z
LAST-MODIFIED:20250702T182533Z
UID:10000308-1748021400-1748032200@www.njahs.org
SUMMARY:Drag Performance and Asian American and Pacific Islander LGBTQ2S+ Social Mixer
DESCRIPTION:[vc_row][vc_column][vc_column_text css=””] \nAsian American and Pacific Islander LGBTQ2S+ Mixer\nPresented by the QTAPI Coalition of the SF Bay Area\, Japantown Rainbow Coalition\, and supported by the Japanese American Citizen’s San Francisco Chapter. \nUPDATE: MAY 23\, 2025 from 5:30pm to 8:00pm\nNJAHS Japantown Peace Gallery\, 1684 Post Street\, San Francisco\, CA 94115\nCelebrate the 5th anniversary of Queer and Trans API (QTAPI) Week with us at the QTAPI Week mixer and preview night! Come mix and mingle with members of the Bay Area’s Queer and Trans API organizations at the National Japanese American Historical Society (NJAHS)\, located in the heart of San Francisco’s Japantown. There will be refreshments\, Pei Pei Ma’bilz and Kristi Yummykochi of the Rice Rockettes\, COOL PEOPLE\, and a preview of all the great events happening around the Bay Area for this year’s 5th QTAPI Week. Interested in hearing about Chinatown Pride? The progress pride flag raising in Japantown? The block party in the Castro? Come to the QTAPI Week preview night and mixer for an exclusive peak! \nKristi Yummykochi \nPei Pei Ma’bilz \n[/vc_column_text][/vc_column][/vc_row]
URL:https://www.njahs.org/events/asian-american-and-pacific-islander-lgbtq2s-mixer/
LOCATION:NJAHS Peace Gallery\, 1684 Post Street\, San Francisco\, CA\, 94115\, United States
CATEGORIES:Events
ATTACH;FMTTYPE=image/png:https://www.njahs.org/wp-content/uploads/2025/04/QTAPI-Vector.png
END:VEVENT
BEGIN:VEVENT
DTSTART;TZID=America/Los_Angeles:20241207T120000
DTEND;TZID=America/Los_Angeles:20241207T170000
DTSTAMP:20260423T064030
CREATED:20241011T034122Z
LAST-MODIFIED:20241121T202137Z
UID:10000303-1733572800-1733590800@www.njahs.org
SUMMARY:HOLIDAY ARTISTS' SALE
DESCRIPTION:Join us for some Holiday Cheer and refreshments Saturday\, December 7\, 2024\, 12-5PM at the NJAHS Peace Gallery. \nHosted by NJAHS.
URL:https://www.njahs.org/events/holiday-artists-sale/
LOCATION:NJAHS Peace Gallery\, 1684 Post Street\, San Francisco\, CA\, 94115\, United States
CATEGORIES:Arts & Culture,Events,Exhibit,Exhibitions,Exhibitions
ATTACH;FMTTYPE=image/jpeg:https://www.njahs.org/wp-content/uploads/2024/10/Lealnd-Wong-@-NJAHS-at-work-1080x1080-1.jpg
END:VEVENT
BEGIN:VEVENT
DTSTART;TZID=America/Los_Angeles:20241116T120000
DTEND;TZID=America/Los_Angeles:20241116T170000
DTSTAMP:20260423T064030
CREATED:20241011T033839Z
LAST-MODIFIED:20241108T002515Z
UID:10000302-1731758400-1731776400@www.njahs.org
SUMMARY:FALL ARTISTS' SALE
DESCRIPTION:Stop by for Fall Holiday sale with artists’ works and merchandise! Rich Tokeshi\, Leon Sun\, Leland Wong with Purple Fire Gems\, Leslie Yee\, and Murata. \nLight refreshments will be provided by staff\, friends and volunteers.
URL:https://www.njahs.org/events/fall-artists-sale-rich-tokeshi-leon-sun-leland-wong-with-purple-fire-gems-leslie-yee-murata/
LOCATION:NJAHS Peace Gallery\, 1684 Post Street\, San Francisco\, CA\, 94115\, United States
CATEGORIES:Arts & Culture,Events,Exhibit,Exhibitions,Exhibitions
ATTACH;FMTTYPE=image/jpeg:https://www.njahs.org/wp-content/uploads/2024/10/Now-Then-Life-in-Community-Art-1080x1080-1.jpg
END:VEVENT
BEGIN:VEVENT
DTSTART;TZID=America/Los_Angeles:20240701T120000
DTEND;TZID=America/Los_Angeles:20240930T170000
DTSTAMP:20260423T064030
CREATED:20240611T212933Z
LAST-MODIFIED:20240904T211318Z
UID:10000295-1719835200-1727715600@www.njahs.org
SUMMARY:American Bon Odori: Dancing in Joy & Remembrance
DESCRIPTION:[vc_row][vc_column][vc_single_image image=”8261″ img_size=”full” css=””][vc_column_text css=””] \nHistoric Bon Odori Multimedia Exhibit On View at NJAHS Japantown Peace Gallery as Part of Commemorative Cultural Arts Series\nJuly 1 – Sept. 30\, 2024\n“American Bon Odori: Dancing in Joy & Remembrance”\nNJAHS Japantown Peace Gallery\, 1684 Post Street\, San Francisco\, CA 94115\nCurated by Dr. Wynn Kiyama and Jane Suiei Naito\nPresented by the American Bon Consortium in partnership with the National Japanese American Historical Society (NJAHS) \nVibrant\, colorful\, and joyous—Obon dancing (Bon odori) is a kaleidoscope of movement and rhythm\, deeply rooted in Japanese Buddhist traditions. In the 1930s\, Reverend Yoshio Iwanaga introduced Bon odori to Buddhist communities up and down the American West Coast. Since that time\, Bon odori has remained an important Japanese American tradition\, through the devastation of World War II concentration camps\, the difficult postwar years\, and into the 21st century. \nAs the Buddhist Churches of America marks its 125th anniversary\, “American Bon Odori: Dancing in Joy and Remembrance\,” celebrates the legacy of Rev. Yoshio Iwanaga\, Obon dance teachers past and present\, and all who have entered the dance circle. \nDrawing upon archival photos\, rare films\, and artifacts\, “American Bon Odori” chronicles the history and significance of Obon dancing (“Bon odori”) in the continental United States\, from the 1930s and the mass incarceration of Japanese Americans during World War II\, through the postwar era and into the 21st century. Principal curator\, Dr. Wynn Kiyama\, has written extensively on Bon odori for Discover Nikkei\, Wheel of Dharma\, and Portland State University’s Digital Archive. Assistant curator\, Jane Suiei Naito\, is a member of the BCA Archive Committee and a Sogetsu Ikebana instructor. \nThe exhibit will also feature 3 special workshops on July 6\, August 3\, and September 7 in the Peace Gallery. Further details below. \nGallery hours: Monday to Friday\, and first Saturdays of the month: 12 Noon to 5 pm \nAdditional gallery days: Sunday\, September 1\, and Monday\, September 2 (Labor Day)\, from 12 Noon to 5 pm. \nGroup Tours: Click here to arrange a group tour for all ages or call (415) 921-5007. \n[/vc_column_text][/vc_column][/vc_row][vc_row][vc_column][vc_column_text css=””] \nAdditional Programming\nSaturday\, July 6th\, 1 – 2 PM\nUchiwa Fan Making Workshop\nHosted by Jane Suiei Naito\nNJAHS Japantown Peace Gallery\, 1684 Post Street\, San Francisco\, CA 94115\n \nSaturday\, August 3rd\, 1 – 2 PM\nTenugui Towel Making Workshop\nHosted by Reiko Iwanaga (Hanayagi Reimichi)\nNJAHS Japantown Peace Gallery\, 1684 Post Street\, San Francisco\, CA 94115\n \nSaturday\, September 7th\, 1 – 2 PM\n“The Magic of Dancing Obon” Dance and Talk\nFeaturing Bon dance creator\, activist\, and cultural icon\, Nobukuo Miyamoto\, in conversation with Dr. Wynn Kiyama\nNJAHS Japantown Peace Gallery\, 1684 Post Street\, San Francisco\, CA 94115 \nRegister for workshops here: https://forms.gle/tQBuM2QS2bp1wJxq7[/vc_column_text][/vc_column][/vc_row][vc_row][vc_column width=”3/5″][vc_column_text css=””] \nSunday\, September 8th\, 1 – 3 PM\n“American Bon Dancing – In Joy and Remembrance”\nPresented in partnership with the Yerba Buena Gardens Festival\nGreat Lawn\, Yerba Buena Gardens (Mission St. between 3rd & 4th St) \nThe Yerba Buena Gardens Festival offers an encore presentation of “American Bon Dancing: Dancing in Joy & Remembrance\,” on Sunday\, September 8th from 1 – 3 pm\, at the Great Lawn on Mission Street between 3rd and 4th Streets in San Francisco’s South of Market neighborhood. Presented by the American Bon Consortium in partnership with Yerba Buena Gardens Festival with support from the National Endowment for the Arts (NEA). \n“American Bon Dancing: Dancing in Joy & Remembrance” invites individuals of all backgrounds to “just dance.” No prior experience is necessary as participants join the dance circle\, honor the memories of those who have passed\, and dance in gratitude for the present moment. Reiko Iwanaga (Hanayagi Reimichi)\, Bon dance master and daughter-in-law of Rev. Yoshio Iwanaga\, collaborates with an array of Bon dance artists for a once-in-a-lifetime afternoon of Bon dancing and music. Two new Bon dances commissioned by the Buddhist Churches of America (BCA) Music Committee will be presented. \n[/vc_column_text][/vc_column][vc_column width=”1/3″][vc_single_image image=”8239″ img_size=”full” css=””][vc_column_text css=””]Photograph by Isao Isago Tanaka[/vc_column_text][/vc_column][/vc_row][vc_row][vc_column][vc_column_text css=””] \nNobuko Miyamoto\, Bon dance maker\, arts icon\, activist\, and subject of a new documentary\, “A Song in Movement\,” will teach her BCA-commissioned work\, “Kangie” (Gathering of Joy). \nBonbu Stories\, a new Asian American arts collaborative group whose members include Emily (Yoshihara) Imazumi\, Miharu Okamura\, Sydney Shiroyama\, Miko Shudo\, Kendall Tani\, and Vicky Zhang\, will share “Lantern Song\,” also commissioned by the BCA Music Committee. \nPJ Hirabayashi of TaikoPeace will lead the Bon dance circle in “Ei Ja Nai Ka\,” a contemporary favorite performed with San Jose Taiko. Ensohza Japanese Folk Ensemble will perform traditional Bon dance music. \nAll events are free and open to the public. See details at Yerba Buena Gardens Festival\nhttps://ybgfestival.org/event/american-bon-dancing-2024/ \n  \nFunding made possible by The Henri and Tomoye Takahashi Charitable Foundation\, National Endowment for the Arts\, and San Francisco Japantown Foundation. For Exhibit and Workshop details\, visit https://www.njahs.org/one-day-events/ or call (415) 921-5007. For the Dance event\, visit https://ybgfestival.org/event/american-bon-dancing-2024/ or call (415) 543-1718. \n[/vc_column_text][/vc_column][/vc_row]
URL:https://www.njahs.org/events/american-bon-odori-dancing-in-joy-remembrance/
LOCATION:NJAHS Peace Gallery\, 1684 Post Street\, San Francisco\, CA\, 94115\, United States
CATEGORIES:Arts & Culture,Events,Exhibit,Exhibitions
END:VEVENT
BEGIN:VEVENT
DTSTART;VALUE=DATE:20220304
DTEND;VALUE=DATE:20220508
DTSTAMP:20260423T064030
CREATED:20220226T093447Z
LAST-MODIFIED:20220514T062655Z
UID:10000143-1646409600-1651942799@www.njahs.org
SUMMARY:"SANSEI LIFE - The Art of Rich Tokeshi" Extended to May 7\, 2022
DESCRIPTION:“SANSEI LIFE – The Art of Rich Tokeshi” Through May 7\, 2022\n\n\nFree\n\n\n\n\nGallery hours:\n\n\nMondays to Fridays from 12 pm – 5 pm (April 2\, 9\, 10\, 16 & 17- During Nor Cal Cherry Blossom Festival)\n\n\nat NJAHS Post Street Gallery\n\n\n1684 Post Street\n\n\nSF\, CA 94115\n\n\n\nClick here to watch\n\n\n 
URL:https://www.njahs.org/events/richard-tokeshis-sansei-life-art-exhibit-opens-march-5/
LOCATION:NJAHS Peace Gallery\, 1684 Post Street\, San Francisco\, CA\, 94115\, United States
CATEGORIES:Events
ATTACH;FMTTYPE=image/jpeg:https://www.njahs.org/wp-content/uploads/2022/02/Poster-Wide-Draft-2.jpg
ORGANIZER;CN="NJAHS":MAILTO:njahs@njahs.org
END:VEVENT
BEGIN:VEVENT
DTSTART;TZID=America/Los_Angeles:20180203T060000
DTEND;TZID=America/Los_Angeles:20180203T080000
DTSTAMP:20260423T064030
CREATED:20171103T063640Z
LAST-MODIFIED:20171103T063659Z
UID:10000109-1517637600-1517644800@www.njahs.org
SUMMARY:EO9066 Series - Artists Talk: Postwar Reckoning
DESCRIPTION:
URL:https://www.njahs.org/events/artists-talk-postwar-reckoning/
LOCATION:NJAHS Peace Gallery\, 1684 Post Street\, San Francisco\, CA\, 94115\, United States
CATEGORIES:Public Programs
END:VEVENT
BEGIN:VEVENT
DTSTART;TZID=America/Los_Angeles:20170615T030000
DTEND;TZID=America/Los_Angeles:20170615T100000
DTSTAMP:20260423T064030
CREATED:20151009T200204Z
LAST-MODIFIED:20241107T222134Z
UID:10000008-1497495600-1497520800@www.njahs.org
SUMMARY:Nikkei Community Internship Start
DESCRIPTION:
URL:https://www.njahs.org/events/nikkei-community-internship-start-2/
LOCATION:NJAHS Peace Gallery\, 1684 Post Street\, San Francisco\, CA\, 94115\, United States
END:VEVENT
BEGIN:VEVENT
DTSTART;TZID=America/Los_Angeles:20170204T060000
DTEND;TZID=America/Los_Angeles:20170204T080000
DTSTAMP:20260423T064030
CREATED:20170127T150328Z
LAST-MODIFIED:20170127T150337Z
UID:10000014-1486188000-1486195200@www.njahs.org
SUMMARY:Peter Yamamoto's Book Preview: JOURNEYS II
DESCRIPTION:Join us as Japantown poet Peter Yamamoto shares a preview of his 2nd book of poetry:\nJOURNEYS II on the first Saturday of February at the NJAHS Peace Gallery.\nLight refreshments served.
URL:https://www.njahs.org/events/peter-yamamotos-book-preview-journeys-ii/
LOCATION:NJAHS Peace Gallery\, 1684 Post Street\, San Francisco\, CA\, 94115\, United States
CATEGORIES:Events,Public Programs
END:VEVENT
BEGIN:VEVENT
DTSTART;VALUE=DATE:20160704
DTEND;VALUE=DATE:20160806
DTSTAMP:20260423T064030
CREATED:20160706T044710Z
LAST-MODIFIED:20160706T044848Z
UID:10000009-1467651600-1470416399@www.njahs.org
SUMMARY:1860 Pacific Overtures: The First Japanese Embassy to America
DESCRIPTION:Come learn about this historic journey of the first Japanese Embassy (on the USS Powhatan) and its escorts on the Kanrin Maru  to America in 1860. This voyage en route to San Francisco marked the historic turning point which ended Japan’s centuries-old seclusion from the Western World and the beginning of diplomatic relations between Japan and the United States. \n \nM-F\, 12-5pm through August 5th
URL:https://www.njahs.org/events/1860-pacific-overtures-first-japanese-embassy-america/
LOCATION:NJAHS Peace Gallery\, 1684 Post Street\, San Francisco\, CA\, 94115\, United States
CATEGORIES:Exhibitions
ORGANIZER;CN="NJAHS":MAILTO:njahs@njahs.org
END:VEVENT
BEGIN:VEVENT
DTSTART;TZID=America/Los_Angeles:20160615T030000
DTEND;TZID=America/Los_Angeles:20160615T093000
DTSTAMP:20260423T064030
CREATED:20151009T185845Z
LAST-MODIFIED:20241107T222120Z
UID:10000072-1465959600-1465983000@www.njahs.org
SUMMARY:Nikkei Community Internship Start
DESCRIPTION:
URL:https://www.njahs.org/events/nikkei-community-internship-start/
LOCATION:NJAHS Peace Gallery\, 1684 Post Street\, San Francisco\, CA\, 94115\, United States
END:VEVENT
BEGIN:VEVENT
DTSTART;TZID=America/Los_Angeles:20160417T050000
DTEND;TZID=America/Los_Angeles:20160417T100000
DTSTAMP:20260423T064030
CREATED:20151009T185132Z
LAST-MODIFIED:20241107T223527Z
UID:10000032-1460869200-1460887200@www.njahs.org
SUMMARY:Cherry Blossom Festival NJAHS Peace Gallery Open
DESCRIPTION:
URL:https://www.njahs.org/events/cherry-blossom-festival-njahs-open-4/
LOCATION:NJAHS Peace Gallery\, 1684 Post Street\, San Francisco\, CA\, 94115\, United States
CATEGORIES:Exhibit
END:VEVENT
BEGIN:VEVENT
DTSTART;TZID=America/Los_Angeles:20160416T050000
DTEND;TZID=America/Los_Angeles:20160416T100000
DTSTAMP:20260423T064030
CREATED:20151009T184742Z
LAST-MODIFIED:20241107T223533Z
UID:10000063-1460782800-1460800800@www.njahs.org
SUMMARY:Cherry Blossom Festival NJAHS Peace Gallery Open
DESCRIPTION:
URL:https://www.njahs.org/events/cherry-blossom-festival-njahs-open-3/
LOCATION:NJAHS Peace Gallery\, 1684 Post Street\, San Francisco\, CA\, 94115\, United States
CATEGORIES:Exhibit
END:VEVENT
BEGIN:VEVENT
DTSTART;TZID=America/Los_Angeles:20160410T050000
DTEND;TZID=America/Los_Angeles:20160410T100000
DTSTAMP:20260423T064030
CREATED:20151009T184543Z
LAST-MODIFIED:20241107T223539Z
UID:10000064-1460264400-1460282400@www.njahs.org
SUMMARY:Cherry Blossom Festival NJAHS Peace Gallery Open
DESCRIPTION:
URL:https://www.njahs.org/events/cherry-blossom-festival-njahs-open-2/
LOCATION:NJAHS Peace Gallery\, 1684 Post Street\, San Francisco\, CA\, 94115\, United States
CATEGORIES:Exhibit
END:VEVENT
BEGIN:VEVENT
DTSTART;TZID=America/Los_Angeles:20160409T050000
DTEND;TZID=America/Los_Angeles:20160409T100000
DTSTAMP:20260423T064030
CREATED:20151009T184339Z
LAST-MODIFIED:20241107T223520Z
UID:10000066-1460178000-1460196000@www.njahs.org
SUMMARY:Cherry Blossom Festival NJAHS Peace Gallery Open
DESCRIPTION:
URL:https://www.njahs.org/events/cherry-blossom-festival-njahs-open/
LOCATION:NJAHS Peace Gallery\, 1684 Post Street\, San Francisco\, CA\, 94115\, United States
CATEGORIES:Exhibit
END:VEVENT
BEGIN:VEVENT
DTSTART;TZID=America/Los_Angeles:20160215T040000
DTEND;TZID=America/Los_Angeles:20160215T090000
DTSTAMP:20260423T064030
CREATED:20160209T070733Z
LAST-MODIFIED:20160209T070733Z
UID:10000017-1455508800-1455526800@www.njahs.org
SUMMARY:Presidents Day Holiday- Gallery Closed
DESCRIPTION:Exhibition Closed
URL:https://www.njahs.org/events/presidents-day-holiday-gallery-closed/
LOCATION:NJAHS Peace Gallery\, 1684 Post Street\, San Francisco\, CA\, 94115\, United States
CATEGORIES:Exhibitions
ORGANIZER;CN="NJAHS":MAILTO:njahs@njahs.org
END:VEVENT
BEGIN:VEVENT
DTSTART;TZID=America/Los_Angeles:20160205T040000
DTEND;TZID=America/Los_Angeles:20161230T090000
DTSTAMP:20260423T064030
CREATED:20160209T062621Z
LAST-MODIFIED:20161117T051102Z
UID:10000019-1454644800-1483088400@www.njahs.org
SUMMARY:Carrying ON: 110 Years of San Francisco Japantown
DESCRIPTION:2016 marks the 110th anniversary of San Francisco’s Japantown in the Western Addition. NJAHS brings to light the history of one of the oldest Japantowns that has survived over a century of discrimination\, dislocation & urban renewal. Colorful banner panels illustrate the narrative with historic photographs\, maps &  oral history quotes. On display through December 30\, 2016. \nAt the NJAHS Peace Gallery\nOpen Monday-Friday\n1st Saturday of the month\n12-5pm
URL:https://www.njahs.org/events/carrying-on-110-years-of-san-francisco-japantown/
LOCATION:NJAHS Peace Gallery\, 1684 Post Street\, San Francisco\, CA\, 94115\, United States
CATEGORIES:Exhibitions
ORGANIZER;CN="NJAHS":MAILTO:njahs@njahs.org
END:VEVENT
BEGIN:VEVENT
DTSTART;TZID=America/Los_Angeles:20160116T060000
DTEND;TZID=America/Los_Angeles:20160116T080000
DTSTAMP:20260423T064030
CREATED:20151211T074955Z
LAST-MODIFIED:20160106T075419Z
UID:10000035-1452924000-1452931200@www.njahs.org
SUMMARY:The Extraordinary Voyage of Kamome Book Signing and Storytelling (English and Japanese)
DESCRIPTION:
URL:https://www.njahs.org/events/the-extraordinary-voyage-of-kamome/
LOCATION:NJAHS Peace Gallery\, 1684 Post Street\, San Francisco\, CA\, 94115\, United States
CATEGORIES:Events
ATTACH;FMTTYPE=image/jpeg:https://www.njahs.org/wp-content/uploads/2015/12/kamome.jpg
END:VEVENT
BEGIN:VEVENT
DTSTART;TZID=America/Los_Angeles:20160102T040000
DTEND;TZID=America/Los_Angeles:20160102T090000
DTSTAMP:20260423T064030
CREATED:20151008T111822Z
LAST-MODIFIED:20151204T095020Z
UID:10000031-1451707200-1451725200@www.njahs.org
SUMMARY:1st Saturday NJAHS Peace Gallery Open
DESCRIPTION:
URL:https://www.njahs.org/events/1st-saturday-njahs-peace-gallery-open-2/
LOCATION:NJAHS Peace Gallery\, 1684 Post Street\, San Francisco\, CA\, 94115\, United States
CATEGORIES:Arts & Culture
ATTACH;FMTTYPE=image/jpeg:https://www.njahs.org/wp-content/uploads/2015/09/Japantown.jpg
END:VEVENT
BEGIN:VEVENT
DTSTART;TZID=America/Los_Angeles:20151205T040000
DTEND;TZID=America/Los_Angeles:20151205T090000
DTSTAMP:20260423T064030
CREATED:20151009T193726Z
LAST-MODIFIED:20151201T033524Z
UID:10000001-1449288000-1449306000@www.njahs.org
SUMMARY:NJAHS Peace Gallery Open
DESCRIPTION:The NJAHS Peace Gallery is open every first Saturday of the month. Visit our Peace Gallery for our latest exhibit and browse our gift shop. Check our calendar for special programs\, workshops\, or events.
URL:https://www.njahs.org/events/1st-saturday-njahs-peace-gallery-open-11/
LOCATION:NJAHS Peace Gallery\, 1684 Post Street\, San Francisco\, CA\, 94115\, United States
CATEGORIES:Public Programs
END:VEVENT
BEGIN:VEVENT
DTSTART;TZID=America/Los_Angeles:20151205T040000
DTEND;TZID=America/Los_Angeles:20151205T060000
DTSTAMP:20260423T064030
CREATED:20151201T034351Z
LAST-MODIFIED:20151201T044042Z
UID:10000034-1449288000-1449295200@www.njahs.org
SUMMARY:Origami Ornament Workshop
DESCRIPTION:
URL:https://www.njahs.org/events/origami-ornament-workshop/
LOCATION:NJAHS Peace Gallery\, 1684 Post Street\, San Francisco\, CA\, 94115\, United States
CATEGORIES:Public Programs
ATTACH;FMTTYPE=image/jpeg:https://www.njahs.org/wp-content/uploads/2015/11/Peace-Crane-Workshop.jpg
ORGANIZER;CN="NJAHS":MAILTO:njahs@njahs.org
END:VEVENT
BEGIN:VEVENT
DTSTART;TZID=America/Los_Angeles:20151107T160000
DTEND;TZID=America/Los_Angeles:20151108T090000
DTSTAMP:20260423T064030
CREATED:20151008T103223Z
LAST-MODIFIED:20151023T015256Z
UID:10000060-1446912000-1446973200@www.njahs.org
SUMMARY:NJAHS Peace Gallery Open
DESCRIPTION:The NJAHS Peace Gallery is open every first Saturday of the month. Visit our Peace Gallery for our latest exhibit and browse our gift shop. Check our calendar for special programs\, workshops\, or events.
URL:https://www.njahs.org/events/1st-saturday-njahs-peace-gallery-open/
LOCATION:NJAHS Peace Gallery\, 1684 Post Street\, San Francisco\, CA\, 94115\, United States
CATEGORIES:Exhibitions
END:VEVENT
END:VCALENDAR