BEGIN:VCALENDAR
VERSION:2.0
PRODID:-//NJAHS - ECPv6.15.20//NONSGML v1.0//EN
CALSCALE:GREGORIAN
METHOD:PUBLISH
X-ORIGINAL-URL:https://www.njahs.org
X-WR-CALDESC:Events for NJAHS
REFRESH-INTERVAL;VALUE=DURATION:PT1H
X-Robots-Tag:noindex
X-PUBLISHED-TTL:PT1H
BEGIN:VTIMEZONE
TZID:America/Los_Angeles
BEGIN:DAYLIGHT
TZOFFSETFROM:-0800
TZOFFSETTO:-0700
TZNAME:PDT
DTSTART:20250309T100000
END:DAYLIGHT
BEGIN:STANDARD
TZOFFSETFROM:-0700
TZOFFSETTO:-0800
TZNAME:PST
DTSTART:20251102T090000
END:STANDARD
BEGIN:DAYLIGHT
TZOFFSETFROM:-0800
TZOFFSETTO:-0700
TZNAME:PDT
DTSTART:20260308T100000
END:DAYLIGHT
BEGIN:STANDARD
TZOFFSETFROM:-0700
TZOFFSETTO:-0800
TZNAME:PST
DTSTART:20261101T090000
END:STANDARD
BEGIN:DAYLIGHT
TZOFFSETFROM:-0800
TZOFFSETTO:-0700
TZNAME:PDT
DTSTART:20270314T100000
END:DAYLIGHT
BEGIN:STANDARD
TZOFFSETFROM:-0700
TZOFFSETTO:-0800
TZNAME:PST
DTSTART:20271107T090000
END:STANDARD
END:VTIMEZONE
BEGIN:VEVENT
DTSTART;TZID=America/Los_Angeles:20260221T190000
DTEND;TZID=America/Los_Angeles:20260221T210000
DTSTAMP:20260423T122812
CREATED:20260130T024513Z
LAST-MODIFIED:20260213T000231Z
UID:10000413-1771700400-1771707600@www.njahs.org
SUMMARY:Salute to Service: The Nisei Soldier Tribute (NEW DISCOUNT: $60)
DESCRIPTION:[vc_row][vc_column][vc_column_text css=””] \nSINGLE EVENT: Salute to Service: The Nisei Soldier Tribute\nSaturday\, February 21\, 2026\n7 PM Program ONLY\nPalace of Fine Arts Theater\, 3301 Lyon St\, San Francisco\, CA 94123\nNEW DISCOUNTED RATE: $60 per person for National Japanese American Historical Society members*\nGo to give.classy.org/SaluteToService to purchase tickets. Price has been updated on website.\nDeadline to buy tickets is February 18th.\n[/vc_column_text][vc_column_text css=””]If you are attending and related to the 100th\, 442nd\, MIS\, Japan Occupation or served in US Army units during WWII\, we encourage you to submit a wartime photo which will be part of the Salute to Service program.  To send the photo\, there is a link on the Salute to Service page above.[/vc_column_text][/vc_column][/vc_row][vc_row][vc_column][vc_column_text css=””] \nI Am American  Exhibit opens to the public on Monday\, February 23\, 24\,  Friday  27\, Sat 28 and Sunday\, March 1 at the  MIS Historic Learning Center\, Building 640  from 12 PM – 5 PM. Our gallery’s new extended hours will be Monday\, Tuesday\, Friday\, Saturday\, Sunday from 12 PM to 5 PM through August 31st.\n\n[/vc_column_text][/vc_column][/vc_row]
URL:https://www.njahs.org/events/salute-to-service-the-nisei-soldier-tribute/
LOCATION:Palace of Fine Arts Theater\, 3301 Lyon St\, San Francisco\, CA\, 94123\, United States
CATEGORIES:Events
ATTACH;FMTTYPE=image/jpeg:https://www.njahs.org/wp-content/uploads/2026/01/SalutetoService-Flyer-NJAHS_Final.jpg
END:VEVENT
END:VCALENDAR