BEGIN:VCALENDAR
VERSION:2.0
PRODID:-//NJAHS - ECPv6.15.20//NONSGML v1.0//EN
CALSCALE:GREGORIAN
METHOD:PUBLISH
X-WR-CALNAME:NJAHS
X-ORIGINAL-URL:https://www.njahs.org
X-WR-CALDESC:Events for NJAHS
REFRESH-INTERVAL;VALUE=DURATION:PT1H
X-Robots-Tag:noindex
X-PUBLISHED-TTL:PT1H
BEGIN:VTIMEZONE
TZID:America/Los_Angeles
BEGIN:DAYLIGHT
TZOFFSETFROM:-0800
TZOFFSETTO:-0700
TZNAME:PDT
DTSTART:20180311T100000
END:DAYLIGHT
BEGIN:STANDARD
TZOFFSETFROM:-0700
TZOFFSETTO:-0800
TZNAME:PST
DTSTART:20181104T090000
END:STANDARD
BEGIN:DAYLIGHT
TZOFFSETFROM:-0800
TZOFFSETTO:-0700
TZNAME:PDT
DTSTART:20190310T100000
END:DAYLIGHT
BEGIN:STANDARD
TZOFFSETFROM:-0700
TZOFFSETTO:-0800
TZNAME:PST
DTSTART:20191103T090000
END:STANDARD
BEGIN:DAYLIGHT
TZOFFSETFROM:-0800
TZOFFSETTO:-0700
TZNAME:PDT
DTSTART:20200308T100000
END:DAYLIGHT
BEGIN:STANDARD
TZOFFSETFROM:-0700
TZOFFSETTO:-0800
TZNAME:PST
DTSTART:20201101T090000
END:STANDARD
END:VTIMEZONE
BEGIN:VEVENT
DTSTART;TZID=America/Los_Angeles:20190504T120000
DTEND;TZID=America/Los_Angeles:20190504T140000
DTSTAMP:20260423T105936
CREATED:20190419T113543Z
LAST-MODIFIED:20190420T055052Z
UID:10000047-1556971200-1556978400@www.njahs.org
SUMMARY:SF Premiere Film Screening: Our Lost Years by Lane Nishikawa- May 4
DESCRIPTION:Saturday\, May 4\, 2019\, 7PM Screening\nat NJAHS 2019 Annual Tribute\, SF Presidio \nActor\, Producer\, Director Lane Nishikawa returns to San Francisco for an \nevening honoring his lifetime achievements. \nFor just one-night\,  we’ll present the SF Premiere Film Screening of Our Lost Years \nTrailer – Our Lost Years \nThis Film screening presentation is in conjunction with Then They Came For Me Exhibition presented by the \nJonathan Logan Family Foundation with community partners NJAHS\, J-Sei at the \nFutures Without Violence Building\, 100 Montgomery\, Presidio of San Francisco \nReserve Now. Limited Seating for Screening. njahs@njahs.org. 415-921-5007 \nFlyer – Our Lost Years -SF Premiere Screening \nJoin the Evening TRIBUTE! \nFilm screening reservation only for Our Lost Years
URL:https://www.njahs.org/events/sf-premiere-film-screening-our-lost-years-by-lane-nishikawa/
LOCATION:The Open Square\, Futures Without Violence Building\, 100 Montgomery\, Main Post\, Presidio of San Francisco\, 100 Montgomery\, in the Presidio of San Francisco\, San Francisco\, 94129
CATEGORIES:Events
ATTACH;FMTTYPE=image/gif:https://www.njahs.org/wp-content/uploads/2019/04/INVITE-050419_horiz-1.gif
ORGANIZER;CN="NJAHS":MAILTO:njahs@njahs.org
END:VEVENT
BEGIN:VEVENT
DTSTART;TZID=America/Los_Angeles:20190504T100000
DTEND;TZID=America/Los_Angeles:20190504T140000
DTSTAMP:20260423T105936
CREATED:20190411T020143Z
LAST-MODIFIED:20190511T025016Z
UID:10000043-1556964000-1556978400@www.njahs.org
SUMMARY:May 4\, 2019 Annual Awards Tribute Pictures
DESCRIPTION:Making Waves: Learning from the Past\, Influencing the Future\nDate & Time: Saturday\, May 4\, 2019\, 5:00 PM – 9PM \nLocation: The open square-Future Without Violence Building (100 Montgomery St\, Presidio of San Francisco CA 94129) \nEmcee: Jane Katsuyama\, FOX-TV\nHonorees: Dr. Satsuki Ina\, Psychotherapist/Activist\nLane Nishikawa\, Actor/Producer/Director\nCommunity Recognition: Student Alumni of San Francisco State Strike–Ethnic Studies\nrepresented by Penny Nakatsu & Dean Amy Sueyoshi \n5PM: Registration\, Sit-down Dinner Buffet\, Exhibit viewing\n6PM: Dinner Program\n A Conversation with Mother & Son Filmmakers\nClaudia Katayanagi\, “Best Director” A Bitter Legacy & Matthew Firpo screenwriter\, Marvel Studios –The Eternals \n7PM: SF Premiere Film Screening: Our Lost Years \n         by Lane Nishikawa \n$175 per person\nSponsorships: $1750 – $25\,000 \nRaffle
URL:https://www.njahs.org/events/2019-awards-tribute-may-4/
LOCATION:The Open Square\, Futures Without Violence Building\, 100 Montgomery\, Main Post\, Presidio of San Francisco\, 100 Montgomery\, in the Presidio of San Francisco\, San Francisco\, 94129
CATEGORIES:Events
ATTACH;FMTTYPE=image/jpeg:https://www.njahs.org/wp-content/uploads/2019/04/Upwave.jpg
END:VEVENT
END:VCALENDAR